BEGIN:VCALENDAR
VERSION:2.0
PRODID:-//Jewish Federation of Southern New Jersey - ECPv6.15.20//NONSGML v1.0//EN
CALSCALE:GREGORIAN
METHOD:PUBLISH
X-WR-CALNAME:Jewish Federation of Southern New Jersey
X-ORIGINAL-URL:https://www.jewishsouthjersey.org
X-WR-CALDESC:Events for Jewish Federation of Southern New Jersey
REFRESH-INTERVAL;VALUE=DURATION:PT1H
X-Robots-Tag:noindex
X-PUBLISHED-TTL:PT1H
BEGIN:VTIMEZONE
TZID:UTC
BEGIN:STANDARD
TZOFFSETFROM:+0000
TZOFFSETTO:+0000
TZNAME:UTC
DTSTART:20250101T000000
END:STANDARD
END:VTIMEZONE
BEGIN:VEVENT
DTSTART;TZID=UTC:20260115T100000
DTEND;TZID=UTC:20260115T100000
DTSTAMP:20260425T103729
CREATED:20251223T144004Z
LAST-MODIFIED:20251223T144004Z
UID:10000079-1768471200-1768471200@www.jewishsouthjersey.org
SUMMARY:Temple Beth Sholom:  Happy Song Music Class
DESCRIPTION:Weekly Interactive Music Sessions for Newborns – Age 3 (with a parent or caregiver) – with MUSIC PLAY PATROL Each session includes a special Shabbat celebration with TBS clergy and educators! Winter I Session: Jan 15-Feb 19 \nMore Info: https://www.tbsonline.org/happy-song-music-class.html
URL:https://www.jewishsouthjersey.org/calendar/temple-beth-sholom-happy-song-music-class/
LOCATION:Temple Beth Sholom\, 1901 Kresson Rd\, Cherry Hill\, NJ\, 08003\, United States
CATEGORIES:Family & Youth
END:VEVENT
END:VCALENDAR