BEGIN:VCALENDAR
VERSION:2.0
PRODID:-//Jewish Federation of Southern New Jersey - ECPv6.15.20//NONSGML v1.0//EN
CALSCALE:GREGORIAN
METHOD:PUBLISH
X-WR-CALNAME:Jewish Federation of Southern New Jersey
X-ORIGINAL-URL:https://www.jewishsouthjersey.org
X-WR-CALDESC:Events for Jewish Federation of Southern New Jersey
REFRESH-INTERVAL;VALUE=DURATION:PT1H
X-Robots-Tag:noindex
X-PUBLISHED-TTL:PT1H
BEGIN:VTIMEZONE
TZID:UTC
BEGIN:STANDARD
TZOFFSETFROM:+0000
TZOFFSETTO:+0000
TZNAME:UTC
DTSTART:20250101T000000
END:STANDARD
END:VTIMEZONE
BEGIN:VEVENT
DTSTART;TZID=UTC:20260204T073000
DTEND;TZID=UTC:20260204T080000
DTSTAMP:20260421T165806
CREATED:20251223T164418Z
LAST-MODIFIED:20251223T164418Z
UID:10000118-1770190200-1770192000@www.jewishsouthjersey.org
SUMMARY:Temple Har Zion:  Morning Online Meditation
DESCRIPTION:Join THZ for a guided meditation on Zoom\, tied in to the weekly parsha. \nContact: Temple Har Zion\nEmail: info@templeharzion.org\nPhone: 609-267-0660\nMore Info: https://templeharzion.org/events1/
URL:https://www.jewishsouthjersey.org/calendar/temple-har-zion-morning-online-meditation-2/
LOCATION:Virtual
CATEGORIES:Community Engagement
ORGANIZER;CN="Temple Har Zion":MAILTO:info@templeharzion.org
END:VEVENT
BEGIN:VEVENT
DTSTART;TZID=UTC:20260204T180000
DTEND;TZID=UTC:20260204T200000
DTSTAMP:20260421T165806
CREATED:20251223T164418Z
LAST-MODIFIED:20251223T164418Z
UID:10000119-1770228000-1770235200@www.jewishsouthjersey.org
SUMMARY:JFED:  JDAIM Disability Services Session
DESCRIPTION:Disability Services will be presenting different topics for the community  \n Dates are Feb\, 4th\, 11th\, 18th\, and 25th \nContact: Nina Staiman\nEmail: nstaiman@jfedsnj.org\nPhone: 424-4444 x 1204
URL:https://www.jewishsouthjersey.org/calendar/jfed-jdaim-disability-services-session/
LOCATION:Jonathan Sinay Building\, 1721 Springdale Road\, Cherry HIll\, NJ\, 08003\, US
CATEGORIES:Disability Services
ORGANIZER;CN="Nina Staiman":MAILTO:nstaiman@jfedsnj.org
END:VEVENT
BEGIN:VEVENT
DTSTART;TZID=UTC:20260204T184500
DTEND;TZID=UTC:20260204T210000
DTSTAMP:20260421T165806
CREATED:20251223T164419Z
LAST-MODIFIED:20251223T164419Z
UID:10000120-1770230700-1770238800@www.jewishsouthjersey.org
SUMMARY:Beth Tikvah:  L’Dor V’dor: Discover Your Roots: 5-Session Jewish Genealogy Series
DESCRIPTION:Congregation Beth Tikvah of Marlton\, in collaboration with Temple Sinai Cinnaminson and Adath Emanuel in Mt. Laurel\, is excited to announce a 5 session Jewish Genealogy Workshop Series\, for anyone in the community eager to explore their family history and heritage. Whether you’re just getting started or looking to deepen your research\, this workshop is the perfect opportunity to dive into the world of genealogy with guidance from local experts. \nContact: Roberta Braverman\nEmail: Genealogy@btikvah.org\nMore Info: https://tinyurl.com/detailsgenealogy
URL:https://www.jewishsouthjersey.org/calendar/beth-tikvah-ldor-vdor-discover-your-roots-5-session-jewish-genealogy-series-2/
LOCATION:Congregation Beth Tikvah\, 115 Evesoro-Medford Road\, Marlton\, NJ\, 08053\, US
CATEGORIES:Community Engagement
ORGANIZER;CN="Roberta Braverman":MAILTO:Genealogy@btikvah.org
END:VEVENT
END:VCALENDAR