BEGIN:VCALENDAR
VERSION:2.0
PRODID:-//Jewish Federation of Southern New Jersey - ECPv6.15.20//NONSGML v1.0//EN
CALSCALE:GREGORIAN
METHOD:PUBLISH
X-WR-CALNAME:Jewish Federation of Southern New Jersey
X-ORIGINAL-URL:https://www.jewishsouthjersey.org
X-WR-CALDESC:Events for Jewish Federation of Southern New Jersey
REFRESH-INTERVAL;VALUE=DURATION:PT1H
X-Robots-Tag:noindex
X-PUBLISHED-TTL:PT1H
BEGIN:VTIMEZONE
TZID:UTC
BEGIN:STANDARD
TZOFFSETFROM:+0000
TZOFFSETTO:+0000
TZNAME:UTC
DTSTART:20250101T000000
END:STANDARD
END:VTIMEZONE
BEGIN:VEVENT
DTSTART;VALUE=DATE:20260315
DTEND;VALUE=DATE:20260316
DTSTAMP:20260421T135812
CREATED:20251223T164721Z
LAST-MODIFIED:20251223T164721Z
UID:10000186-1773532800-1773619199@www.jewishsouthjersey.org
SUMMARY:JFed: Interfaith Civil Rights Mission
DESCRIPTION:Contact: Ronit Boyd\nEmail: rboyd@jfedsnj.org\nPhone: 8566732588\nMore Info: https://www.jewishsouthjersey.org/missions/
URL:https://www.jewishsouthjersey.org/calendar/jfed-interfaith-civil-rights-mission/
CATEGORIES:Community Engagement
ORGANIZER;CN="Ronit Boyd":MAILTO:rboyd@jfedsnj.org
END:VEVENT
BEGIN:VEVENT
DTSTART;TZID=UTC:20260315T093000
DTEND;TZID=UTC:20260315T120000
DTSTAMP:20260421T135812
CREATED:20251223T164721Z
LAST-MODIFIED:20251223T164721Z
UID:10000187-1773567000-1773576000@www.jewishsouthjersey.org
SUMMARY:Katz JCC: JTeen856 Mental Health Committee
DESCRIPTION:Are you a high school student in 10th–12th grade passionate about mental health\, wellness\, and supporting your peers? Join the JTeen856 Teen Mental Health Committee and be part of a team dedicated to advocacy\, awareness\, and making a real impact in our community. \n ???? What You’ll Do: \n Share your voice and creativity in shaping blog posts\, social media content\, and digital resources Help plan and promote mental health awareness events and wellness initiatives Collaborate with other teen leaders to build a supportive and stigma-free community Take on a leadership role with a flexible time commitment ? Time Commitment: Just 2–3 hours a month\, including monthly meetings and creative contributions. Membership is an academic one-year commitment\, from September to May. \n ???? Sundays: September 21 / October 19 / November 16 / December 14 / January 11 / February 22 / March 15 / April 19 / May 31  ???? Time: 9:30-12:00pm  ???? Where: Teen Lounge\, Katz JCC\, Cherry Hill\, NJ ???? Questions? Reach out to Carl Abramowitz at cabramowitz@jfedsnj.org \n Let’s build a community of care\, compassion\, and connection—together. \nContact: Carl Abramowitz\nEmail: CAbramowitz@jfedsnj.org\nMore Info: https://forms.gle/sWhBRo99ps1xY1K68
URL:https://www.jewishsouthjersey.org/calendar/katz-jcc-jteen856-mental-health-committee-3/
LOCATION:Betty and Milton Katz JCC\, 1301 Springdale Road\, Cherry HIll\, NJ\, 08003\, US
CATEGORIES:Community Engagement
ORGANIZER;CN="Carl Abramowitz":MAILTO:CAbramowitz@jfedsnj.org
END:VEVENT
BEGIN:VEVENT
DTSTART;TZID=UTC:20260315T190000
DTEND;TZID=UTC:20260315T210000
DTSTAMP:20260421T135812
CREATED:20251223T164737Z
LAST-MODIFIED:20251223T164737Z
UID:10000188-1773601200-1773608400@www.jewishsouthjersey.org
SUMMARY:JCRC 57th Annual Israel Advocacy Event
DESCRIPTION:Contact: Sabrina Spector\nEmail: sspector@jfedsnj.org
URL:https://www.jewishsouthjersey.org/calendar/jcrc-57th-annual-israel-advocacy-event/
LOCATION:Jewish Federation of Southern New Jersey\, 1301 Springdale Road\, Suite 200\, Cherry HIll\, NJ\, 08003\, US
CATEGORIES:Community Engagement
ORGANIZER;CN="Sabrina Spector":MAILTO:sspector@jfedsnj.org
END:VEVENT
END:VCALENDAR