BEGIN:VCALENDAR
VERSION:2.0
PRODID:-//Jewish Federation of Southern New Jersey - ECPv6.15.20//NONSGML v1.0//EN
CALSCALE:GREGORIAN
METHOD:PUBLISH
X-ORIGINAL-URL:https://www.jewishsouthjersey.org
X-WR-CALDESC:Events for Jewish Federation of Southern New Jersey
REFRESH-INTERVAL;VALUE=DURATION:PT1H
X-Robots-Tag:noindex
X-PUBLISHED-TTL:PT1H
BEGIN:VTIMEZONE
TZID:UTC
BEGIN:STANDARD
TZOFFSETFROM:+0000
TZOFFSETTO:+0000
TZNAME:UTC
DTSTART:20250101T000000
END:STANDARD
END:VTIMEZONE
BEGIN:VEVENT
DTSTART;TZID=UTC:20260316T190000
DTEND;TZID=UTC:20260316T203000
DTSTAMP:20260420T194926
CREATED:20251223T164739Z
LAST-MODIFIED:20251223T164739Z
UID:10000192-1773687600-1773693000@www.jewishsouthjersey.org
SUMMARY:JFCS:  Disability Services Committee Meeting
DESCRIPTION:Contact: Oriel Weinberg\nEmail: oweinberg@jfedsnj.org\nPhone: 856-424-1333 x1182
URL:https://www.jewishsouthjersey.org/calendar/jfcs-disability-services-committee-meeting-2/
LOCATION:Virtual
CATEGORIES:Meetings
ORGANIZER;CN="Oriel Weinberg":MAILTO:oweinberg@jfedsnj.org
END:VEVENT
BEGIN:VEVENT
DTSTART;TZID=UTC:20260316T190000
DTEND;TZID=UTC:20260316T210000
DTSTAMP:20260420T194926
CREATED:20251223T164738Z
LAST-MODIFIED:20251223T164738Z
UID:10000191-1773687600-1773694800@www.jewishsouthjersey.org
SUMMARY:Katz JCC: Board of Directors Meeting
DESCRIPTION:Contact: Ashley Giat\nEmail: agiat@jfedsnj.org
URL:https://www.jewishsouthjersey.org/calendar/katz-jcc-board-of-directors-meeting-3/
LOCATION:Betty and Milton Katz JCC\, 1301 Springdale Road\, Cherry HIll\, NJ\, 08003\, US
CATEGORIES:Meetings
ORGANIZER;CN="Ashley Giat":MAILTO:agiat@jfedsnj.org
END:VEVENT
END:VCALENDAR