BEGIN:VCALENDAR
VERSION:2.0
PRODID:-//Jewish Federation of Southern New Jersey - ECPv6.15.20//NONSGML v1.0//EN
CALSCALE:GREGORIAN
METHOD:PUBLISH
X-WR-CALNAME:Jewish Federation of Southern New Jersey
X-ORIGINAL-URL:https://www.jewishsouthjersey.org
X-WR-CALDESC:Events for Jewish Federation of Southern New Jersey
REFRESH-INTERVAL;VALUE=DURATION:PT1H
X-Robots-Tag:noindex
X-PUBLISHED-TTL:PT1H
BEGIN:VTIMEZONE
TZID:UTC
BEGIN:STANDARD
TZOFFSETFROM:+0000
TZOFFSETTO:+0000
TZNAME:UTC
DTSTART:20250101T000000
END:STANDARD
END:VTIMEZONE
BEGIN:VEVENT
DTSTART;TZID=UTC:20260423T190000
DTEND;TZID=UTC:20260423T200000
DTSTAMP:20260420T103651
CREATED:20251223T165019Z
LAST-MODIFIED:20251223T165019Z
UID:10000243-1776970800-1776974400@www.jewishsouthjersey.org
SUMMARY:Katz JCC:  Finance Committee Meeting
DESCRIPTION:Contact: Ashley Giat\nEmail: agiat@jfedsnj.org
URL:https://www.jewishsouthjersey.org/calendar/katz-jcc-finance-committee-meeting-4/
LOCATION:Virtual
CATEGORIES:Meetings
ORGANIZER;CN="Ashley Giat":MAILTO:agiat@jfedsnj.org
END:VEVENT
END:VCALENDAR