BEGIN:VCALENDAR
VERSION:2.0
PRODID:-//Jewish Federation of Southern New Jersey - ECPv6.15.20//NONSGML v1.0//EN
CALSCALE:GREGORIAN
METHOD:PUBLISH
X-ORIGINAL-URL:https://www.jewishsouthjersey.org
X-WR-CALDESC:Events for Jewish Federation of Southern New Jersey
REFRESH-INTERVAL;VALUE=DURATION:PT1H
X-Robots-Tag:noindex
X-PUBLISHED-TTL:PT1H
BEGIN:VTIMEZONE
TZID:UTC
BEGIN:STANDARD
TZOFFSETFROM:+0000
TZOFFSETTO:+0000
TZNAME:UTC
DTSTART:20250101T000000
END:STANDARD
END:VTIMEZONE
BEGIN:VEVENT
DTSTART;TZID=UTC:20260507T090000
DTEND;TZID=UTC:20260507T100000
DTSTAMP:20260420T164307
CREATED:20251223T165158Z
LAST-MODIFIED:20251223T165158Z
UID:10000270-1778144400-1778148000@www.jewishsouthjersey.org
SUMMARY:JFCS:  Counseling Committee Meeting
DESCRIPTION:Contact: Rebecca Rosenau\nEmail: rroseanau@jfedsnj.org\nPhone: 856-424-1333 X1702
URL:https://www.jewishsouthjersey.org/calendar/jfcs-counseling-committee-meeting-2/
LOCATION:Virtual
CATEGORIES:Meetings
ORGANIZER;CN="Rebecca Rosenau":MAILTO:rroseanau@jfedsnj.org
END:VEVENT
END:VCALENDAR