BEGIN:VCALENDAR
VERSION:2.0
PRODID:-//Jewish Federation of Southern New Jersey - ECPv6.15.20//NONSGML v1.0//EN
CALSCALE:GREGORIAN
METHOD:PUBLISH
X-WR-CALNAME:Jewish Federation of Southern New Jersey
X-ORIGINAL-URL:https://www.jewishsouthjersey.org
X-WR-CALDESC:Events for Jewish Federation of Southern New Jersey
REFRESH-INTERVAL;VALUE=DURATION:PT1H
X-Robots-Tag:noindex
X-PUBLISHED-TTL:PT1H
BEGIN:VTIMEZONE
TZID:UTC
BEGIN:STANDARD
TZOFFSETFROM:+0000
TZOFFSETTO:+0000
TZNAME:UTC
DTSTART:20250101T000000
END:STANDARD
END:VTIMEZONE
BEGIN:VEVENT
DTSTART;TZID=UTC:20260608T193000
DTEND;TZID=UTC:20260608T210000
DTSTAMP:20260422T164823
CREATED:20251223T165621Z
LAST-MODIFIED:20251223T165621Z
UID:10000316-1780947000-1780952400@www.jewishsouthjersey.org
SUMMARY:KBA: Board of Trustees Meeting
DESCRIPTION:
URL:https://www.jewishsouthjersey.org/calendar/kba-board-of-trustees-meeting-6/
LOCATION:Virtual
CATEGORIES:Meetings
END:VEVENT
END:VCALENDAR