BEGIN:VCALENDAR
VERSION:2.0
PRODID:-//Jewish Federation of Southern New Jersey - ECPv6.15.20//NONSGML v1.0//EN
CALSCALE:GREGORIAN
METHOD:PUBLISH
X-ORIGINAL-URL:https://www.jewishsouthjersey.org
X-WR-CALDESC:Events for Jewish Federation of Southern New Jersey
REFRESH-INTERVAL;VALUE=DURATION:PT1H
X-Robots-Tag:noindex
X-PUBLISHED-TTL:PT1H
BEGIN:VTIMEZONE
TZID:UTC
BEGIN:STANDARD
TZOFFSETFROM:+0000
TZOFFSETTO:+0000
TZNAME:UTC
DTSTART:20240101T000000
END:STANDARD
END:VTIMEZONE
BEGIN:VEVENT
DTSTART;TZID=UTC:20260219T180000
DTEND;TZID=UTC:20260219T190000
DTSTAMP:20260420T182228
CREATED:20251223T164548Z
LAST-MODIFIED:20251223T164548Z
UID:10000148-1771524000-1771527600@www.jewishsouthjersey.org
SUMMARY:Katz JCC:  Governance Committee
DESCRIPTION:
URL:https://www.jewishsouthjersey.org/calendar/katz-jcc-governance-committee/
LOCATION:Betty and Milton Katz JCC\, 1301 Springdale Road\, Cherry HIll\, NJ\, 08003\, US
CATEGORIES:Meetings
END:VEVENT
BEGIN:VEVENT
DTSTART;TZID=UTC:20260219T120000
DTEND;TZID=UTC:20260219T130000
DTSTAMP:20260420T182228
CREATED:20251223T164531Z
LAST-MODIFIED:20251223T164531Z
UID:10000147-1771502400-1771506000@www.jewishsouthjersey.org
SUMMARY:JFCS:  Older Adults Committee Meeting
DESCRIPTION:Contact: Rebecca Rosenau\nEmail: rroseanau@jfedsnj.org\nPhone: 856-424-1333 X1702
URL:https://www.jewishsouthjersey.org/calendar/jfcs-older-adults-committee-meeting/
LOCATION:Virtual
CATEGORIES:Meetings
ORGANIZER;CN="Rebecca Rosenau":MAILTO:rroseanau@jfedsnj.org
END:VEVENT
BEGIN:VEVENT
DTSTART;TZID=UTC:20260218T190000
DTEND;TZID=UTC:20260218T210000
DTSTAMP:20260420T182228
CREATED:20251223T164530Z
LAST-MODIFIED:20251223T164530Z
UID:10000145-1771441200-1771448400@www.jewishsouthjersey.org
SUMMARY:JFSNJ:  Board of Directors Meeting
DESCRIPTION:Contact: Sarah Rowland\nEmail: srowland@jfedsnj.org
URL:https://www.jewishsouthjersey.org/calendar/jfsnj-board-of-directors-meeting-2/
LOCATION:Jewish Federation of Southern New Jersey\, 1301 Springdale Road\, Suite 200\, Cherry HIll\, NJ\, 08003\, US
CATEGORIES:Meetings
ORGANIZER;CN="Sarah Rowland":MAILTO:srowland@jfedsnj.org
END:VEVENT
BEGIN:VEVENT
DTSTART;TZID=UTC:20260217T190000
DTEND;TZID=UTC:20260217T210000
DTSTAMP:20260420T182228
CREATED:20251223T164529Z
LAST-MODIFIED:20251223T164529Z
UID:10000143-1771354800-1771362000@www.jewishsouthjersey.org
SUMMARY:JCF:  Board of Trustees Meeting
DESCRIPTION:Contact: Mike Staff\nEmail: mstaff@jfedsnj.org\nPhone: 8566732528\nMore Info: http://jcfsnj.org
URL:https://www.jewishsouthjersey.org/calendar/jcf-board-of-trustees-meeting/
LOCATION:Jewish Federation of Southern New Jersey\, 1301 Springdale Road\, Suite 200\, Cherry HIll\, NJ\, 08003\, US
CATEGORIES:Meetings
ORGANIZER;CN="Mike Staff":MAILTO:mstaff@jfedsnj.org
END:VEVENT
BEGIN:VEVENT
DTSTART;TZID=UTC:20260217T190000
DTEND;TZID=UTC:20260217T203000
DTSTAMP:20260420T182228
CREATED:20251223T164519Z
LAST-MODIFIED:20251223T164519Z
UID:10000142-1771354800-1771360200@www.jewishsouthjersey.org
SUMMARY:JSHHS: Board of Trustees Meeting
DESCRIPTION:Contact: Lisa Tucker\nEmail: ltucker@lionsgateccrc.org\nPhone: 8566792209
URL:https://www.jewishsouthjersey.org/calendar/jshhs-board-of-trustees-meeting/
LOCATION:Lions Gate or Virtual
CATEGORIES:Meetings
ORGANIZER;CN="Lisa Tucker":MAILTO:ltucker@lionsgateccrc.org
END:VEVENT
BEGIN:VEVENT
DTSTART;TZID=UTC:20260212T190000
DTEND;TZID=UTC:20260212T200000
DTSTAMP:20260420T182228
CREATED:20251223T164500Z
LAST-MODIFIED:20251223T164500Z
UID:10000137-1770922800-1770926400@www.jewishsouthjersey.org
SUMMARY:Katz JCC:  Finance Committee Meeting
DESCRIPTION:Contact: Ashley Giat\nEmail: agiat@jfedsnj.org
URL:https://www.jewishsouthjersey.org/calendar/katz-jcc-finance-committee-meeting-2/
LOCATION:Virtual
CATEGORIES:Meetings
ORGANIZER;CN="Ashley Giat":MAILTO:agiat@jfedsnj.org
END:VEVENT
BEGIN:VEVENT
DTSTART;TZID=UTC:20260210T193000
DTEND;TZID=UTC:20260210T210000
DTSTAMP:20260420T182228
CREATED:20251223T164442Z
LAST-MODIFIED:20251223T164442Z
UID:10000131-1770751800-1770757200@www.jewishsouthjersey.org
SUMMARY:JCRC: Board Meeting
DESCRIPTION:Contact: Mike Iannuzzi\nEmail: miannuzzi@jfedsnj.org
URL:https://www.jewishsouthjersey.org/calendar/jcrc-board-meeting-2/
LOCATION:Jewish Federation of Southern New Jersey\, 1301 Springdale Road\, Suite 200\, Cherry HIll\, NJ\, 08003\, US
CATEGORIES:Meetings
ORGANIZER;CN="Mike Iannuzzi":MAILTO:miannuzzi@jfedsnj.org
END:VEVENT
BEGIN:VEVENT
DTSTART;TZID=UTC:20260209T190000
DTEND;TZID=UTC:20260209T203000
DTSTAMP:20260420T182228
CREATED:20251223T164441Z
LAST-MODIFIED:20251223T164441Z
UID:10000129-1770663600-1770669000@www.jewishsouthjersey.org
SUMMARY:JFCS:  Board Of Directors Meeting
DESCRIPTION:Contact: Kelly Guiliano\nEmail: 856-424-1333\nPhone: kguilliano@jfedsnj.org
URL:https://www.jewishsouthjersey.org/calendar/jfcs-board-of-directors-meeting-2/
LOCATION:JFED Board Room
CATEGORIES:Meetings
ORGANIZER;CN="Kelly Guiliano":MAILTO:kguiliano@jfedsnj.org
END:VEVENT
BEGIN:VEVENT
DTSTART;TZID=UTC:20260205T190000
DTEND;TZID=UTC:20260205T210000
DTSTAMP:20260420T182228
CREATED:20251223T164423Z
LAST-MODIFIED:20251223T164423Z
UID:10000124-1770318000-1770325200@www.jewishsouthjersey.org
SUMMARY:JFED:  Planning and Visioning Committee
DESCRIPTION:Contact: Ronit Boyd\nEmail: rboyd@jfedsnj.org
URL:https://www.jewishsouthjersey.org/calendar/jfed-planning-and-visioning-committee-2/
LOCATION:Jewish Federation of Southern New Jersey\, 1301 Springdale Road\, Suite 200\, Cherry HIll\, NJ\, 08003\, US
CATEGORIES:Meetings
ORGANIZER;CN="Ronit Boyd":MAILTO:rboyd@jfedsnj.org
END:VEVENT
BEGIN:VEVENT
DTSTART;TZID=UTC:20260205T090000
DTEND;TZID=UTC:20260205T100000
DTSTAMP:20260420T182228
CREATED:20251223T164420Z
LAST-MODIFIED:20251223T164420Z
UID:10000122-1770282000-1770285600@www.jewishsouthjersey.org
SUMMARY:JFCS:  Counseling Committee Meeting
DESCRIPTION:Contact: Rebecca Rosenau\nEmail: rroseanau@jfedsnj.org\nPhone: 856-424-1333 X1702
URL:https://www.jewishsouthjersey.org/calendar/jfcs-counseling-committee-meeting/
LOCATION:Virtual
CATEGORIES:Meetings
ORGANIZER;CN="Rebecca Rosenau":MAILTO:rroseanau@jfedsnj.org
END:VEVENT
BEGIN:VEVENT
DTSTART;TZID=UTC:20260127T080000
DTEND;TZID=UTC:20260127T090000
DTSTAMP:20260420T182228
CREATED:20251223T164317Z
LAST-MODIFIED:20251223T164317Z
UID:10000099-1769500800-1769504400@www.jewishsouthjersey.org
SUMMARY:JFCS:  Finance Committee
DESCRIPTION:Contact: Melanie Stoopler\nEmail: mstoopler@jfedsnj.org\nPhone: 856-424-1333 x1540
URL:https://www.jewishsouthjersey.org/calendar/jfcs-finance-committee/
LOCATION:JFCS Conference Room
CATEGORIES:Meetings
ORGANIZER;CN="Melanie Stoopler":MAILTO:mstoopler@jfedsnj.org
END:VEVENT
BEGIN:VEVENT
DTSTART;TZID=UTC:20260126T190000
DTEND;TZID=UTC:20260126T203000
DTSTAMP:20260420T182228
CREATED:20251223T164316Z
LAST-MODIFIED:20251223T164316Z
UID:10000098-1769454000-1769459400@www.jewishsouthjersey.org
SUMMARY:JFCS:  Disability Services Committee Meeting
DESCRIPTION:Contact: Oriel Weinberg\nEmail: oweinberg@jfedsnj.org\nPhone: 856-424-1333 x1182
URL:https://www.jewishsouthjersey.org/calendar/jfcs-disability-services-committee-meeting/
LOCATION:Virtual
CATEGORIES:Meetings
ORGANIZER;CN="Oriel Weinberg":MAILTO:oweinberg@jfedsnj.org
END:VEVENT
BEGIN:VEVENT
DTSTART;TZID=UTC:20260121T190000
DTEND;TZID=UTC:20260121T210000
DTSTAMP:20260420T182228
CREATED:20251223T162628Z
LAST-MODIFIED:20251223T162628Z
UID:10000089-1769022000-1769029200@www.jewishsouthjersey.org
SUMMARY:JFSNJ:  Board of Directors Meeting
DESCRIPTION:Contact: Sarah Rowland\nEmail: srowland@jfedsnj.org
URL:https://www.jewishsouthjersey.org/calendar/jfsnj-board-of-directors-meeting/
LOCATION:Jewish Federation of Southern New Jersey\, 1301 Springdale Road\, Suite 200\, Cherry HIll\, NJ\, 08003\, US
CATEGORIES:Meetings
ORGANIZER;CN="Sarah Rowland":MAILTO:srowland@jfedsnj.org
END:VEVENT
BEGIN:VEVENT
DTSTART;TZID=UTC:20260119T190000
DTEND;TZID=UTC:20260119T203000
DTSTAMP:20260420T182228
CREATED:20251223T162628Z
LAST-MODIFIED:20251223T162628Z
UID:10000088-1768849200-1768854600@www.jewishsouthjersey.org
SUMMARY:JFCS:  Board Of Directors Meeting
DESCRIPTION:Contact: Kelly Guiliano\nEmail: 856-424-1333\nPhone: kguilliano@jfedsnj.org
URL:https://www.jewishsouthjersey.org/calendar/jfcs-board-of-directors-meeting/
LOCATION:JFED Board Room
CATEGORIES:Meetings
ORGANIZER;CN="Kelly Guiliano":MAILTO:kguiliano@jfedsnj.org
END:VEVENT
BEGIN:VEVENT
DTSTART;TZID=UTC:20260119T180000
DTEND;TZID=UTC:20260119T210000
DTSTAMP:20260420T182228
CREATED:20251223T153650Z
LAST-MODIFIED:20251223T153650Z
UID:10000087-1768845600-1768856400@www.jewishsouthjersey.org
SUMMARY:KBA: Board of Trustees Meeting
DESCRIPTION:
URL:https://www.jewishsouthjersey.org/calendar/kba-board-of-trustees-meeting-2/
LOCATION:Kellman Brown Academy
CATEGORIES:Meetings
END:VEVENT
BEGIN:VEVENT
DTSTART;TZID=UTC:20260113T193000
DTEND;TZID=UTC:20260113T210000
DTSTAMP:20260420T182228
CREATED:20251223T142347Z
LAST-MODIFIED:20251223T142347Z
UID:10000076-1768332600-1768338000@www.jewishsouthjersey.org
SUMMARY:JCRC: Board Meeting
DESCRIPTION:Contact: Mike Iannuzzi\nEmail: miannuzzi@jfedsnj.org
URL:https://www.jewishsouthjersey.org/calendar/jcrc-board-meeting/
LOCATION:Jewish Federation of Southern New Jersey\, 1301 Springdale Road\, Suite 200\, Cherry HIll\, NJ\, 08003\, US
CATEGORIES:Meetings
ORGANIZER;CN="Mike Iannuzzi":MAILTO:miannuzzi@jfedsnj.org
END:VEVENT
BEGIN:VEVENT
DTSTART;TZID=UTC:20260112T190000
DTEND;TZID=UTC:20260112T210000
DTSTAMP:20260420T182228
CREATED:20251223T142347Z
LAST-MODIFIED:20251223T142347Z
UID:10000075-1768244400-1768251600@www.jewishsouthjersey.org
SUMMARY:Katz JCC: Board of Directors Meeting
DESCRIPTION:Contact: Ashley Giat\nEmail: agiat@jfedsnj.org
URL:https://www.jewishsouthjersey.org/calendar/katz-jcc-board-of-directors-meeting/
LOCATION:Betty and Milton Katz JCC\, 1301 Springdale Road\, Cherry HIll\, NJ\, 08003\, US
CATEGORIES:Meetings
ORGANIZER;CN="Ashley Giat":MAILTO:agiat@jfedsnj.org
END:VEVENT
BEGIN:VEVENT
DTSTART;TZID=UTC:20260108T190000
DTEND;TZID=UTC:20260108T210000
DTSTAMP:20260420T182228
CREATED:20251223T142327Z
LAST-MODIFIED:20251223T142327Z
UID:10000067-1767898800-1767906000@www.jewishsouthjersey.org
SUMMARY:JFED:  Zell Federation Future Leadership Institute (FLI)
DESCRIPTION:Contact: Moriah Benjoseph\nEmail: mbenjoseph@jfedsnj.org
URL:https://www.jewishsouthjersey.org/calendar/jfed-zell-federation-future-leadership-institute-fli/
LOCATION:Betty and Milton Katz JCC\, 1301 Springdale Road\, Cherry HIll\, NJ\, 08003\, US
CATEGORIES:Meetings
ORGANIZER;CN="Moriah Benjoseph":MAILTO:mbenjoseph@jfedsnj.org
END:VEVENT
BEGIN:VEVENT
DTSTART;TZID=UTC:20260108T190000
DTEND;TZID=UTC:20260108T200000
DTSTAMP:20260420T182228
CREATED:20251223T142339Z
LAST-MODIFIED:20251223T142339Z
UID:10000068-1767898800-1767902400@www.jewishsouthjersey.org
SUMMARY:Katz JCC:  Finance Committee Meeting
DESCRIPTION:Contact: Ashley Giat\nEmail: agiat@jfedsnj.org
URL:https://www.jewishsouthjersey.org/calendar/katz-jcc-finance-committee-meeting/
LOCATION:Virtual
CATEGORIES:Meetings
ORGANIZER;CN="Ashley Giat":MAILTO:agiat@jfedsnj.org
END:VEVENT
BEGIN:VEVENT
DTSTART;TZID=UTC:20260107T190000
DTEND;TZID=UTC:20260107T210000
DTSTAMP:20260420T182228
CREATED:20251223T142327Z
LAST-MODIFIED:20251223T142327Z
UID:10000066-1767812400-1767819600@www.jewishsouthjersey.org
SUMMARY:JFED:  Planning and Visioning Committee
DESCRIPTION:Contact: Ronit Boyd\nEmail: rboyd@jfedsnj.org
URL:https://www.jewishsouthjersey.org/calendar/jfed-planning-and-visioning-committee/
LOCATION:Jewish Federation of Southern New Jersey\, 1301 Springdale Road\, Suite 200\, Cherry HIll\, NJ\, 08003\, US
CATEGORIES:Meetings
ORGANIZER;CN="Ronit Boyd":MAILTO:rboyd@jfedsnj.org
END:VEVENT
BEGIN:VEVENT
DTSTART;TZID=UTC:20260106T190000
DTEND;TZID=UTC:20260106T203000
DTSTAMP:20260420T182228
CREATED:20251223T142326Z
LAST-MODIFIED:20251223T142326Z
UID:10000063-1767726000-1767731400@www.jewishsouthjersey.org
SUMMARY:JFED:  Marketing & Publications Committee Meeting
DESCRIPTION:Contact: Stephanie Dworkin\nEmail: sdworkin@jfedsnj.org\nPhone: 8566732550
URL:https://www.jewishsouthjersey.org/calendar/jfed-marketing-publications-committee-meeting/
LOCATION:Betty and Milton Katz JCC\, 1301 Springdale Road\, Cherry HIll\, NJ\, 08003\, US
CATEGORIES:Meetings
ORGANIZER;CN="Stephanie Dworkin":MAILTO:sdworkin@jfedsnj.org
END:VEVENT
BEGIN:VEVENT
DTSTART;TZID=UTC:20251222T200000
DTEND;TZID=UTC:20251222T213000
DTSTAMP:20260420T182228
CREATED:20251223T142258Z
LAST-MODIFIED:20251223T142258Z
UID:10000053-1766433600-1766439000@www.jewishsouthjersey.org
SUMMARY:KBA: Board of Trustees Meeting
DESCRIPTION:
URL:https://www.jewishsouthjersey.org/calendar/kba-board-of-trustees-meeting/
LOCATION:Virtual
CATEGORIES:Meetings
END:VEVENT
END:VCALENDAR