BEGIN:VCALENDAR
VERSION:2.0
PRODID:-//Jewish Federation of Southern New Jersey - ECPv6.15.20//NONSGML v1.0//EN
CALSCALE:GREGORIAN
METHOD:PUBLISH
X-ORIGINAL-URL:https://www.jewishsouthjersey.org
X-WR-CALDESC:Events for Jewish Federation of Southern New Jersey
REFRESH-INTERVAL;VALUE=DURATION:PT1H
X-Robots-Tag:noindex
X-PUBLISHED-TTL:PT1H
BEGIN:VTIMEZONE
TZID:UTC
BEGIN:STANDARD
TZOFFSETFROM:+0000
TZOFFSETTO:+0000
TZNAME:UTC
DTSTART:20260101T000000
END:STANDARD
END:VTIMEZONE
BEGIN:VEVENT
DTSTART;TZID=UTC:20270222T180000
DTEND;TZID=UTC:20270222T190000
DTSTAMP:20260421T091529
CREATED:20251223T170231Z
LAST-MODIFIED:20251223T170231Z
UID:10000492-1803319200-1803322800@www.jewishsouthjersey.org
SUMMARY:Katz JCC:  Governance Committee
DESCRIPTION:
URL:https://www.jewishsouthjersey.org/calendar/katz-jcc-governance-committee-7/
LOCATION:Betty and Milton Katz JCC\, 1301 Springdale Road\, Cherry HIll\, NJ\, 08003\, US
CATEGORIES:Meetings
END:VEVENT
BEGIN:VEVENT
DTSTART;TZID=UTC:20270222T190000
DTEND;TZID=UTC:20270222T210000
DTSTAMP:20260421T091529
CREATED:20251223T170239Z
LAST-MODIFIED:20251223T170239Z
UID:10000493-1803322800-1803330000@www.jewishsouthjersey.org
SUMMARY:Katz JCC: Board of Directors Meeting
DESCRIPTION:Contact: Ashley Giat\nEmail: agiat@jfedsnj.org
URL:https://www.jewishsouthjersey.org/calendar/katz-jcc-board-of-directors-meeting-13/
LOCATION:Betty and Milton Katz JCC\, 1301 Springdale Road\, Cherry HIll\, NJ\, 08003\, US
CATEGORIES:Meetings
ORGANIZER;CN="Ashley Giat":MAILTO:agiat@jfedsnj.org
END:VEVENT
BEGIN:VEVENT
DTSTART;TZID=UTC:20270302T193000
DTEND;TZID=UTC:20270302T210000
DTSTAMP:20260421T091529
CREATED:20251223T170240Z
LAST-MODIFIED:20251223T170240Z
UID:10000496-1804015800-1804021200@www.jewishsouthjersey.org
SUMMARY:JCRC: Board Meeting
DESCRIPTION:Contact: Mike Iannuzzi\nEmail: miannuzzi@jfedsnj.org
URL:https://www.jewishsouthjersey.org/calendar/jcrc-board-meeting-13/
LOCATION:Jewish Federation of Southern New Jersey\, 1301 Springdale Road\, Suite 200\, Cherry HIll\, NJ\, 08003\, US
CATEGORIES:Meetings
ORGANIZER;CN="Mike Iannuzzi":MAILTO:miannuzzi@jfedsnj.org
END:VEVENT
BEGIN:VEVENT
DTSTART;TZID=UTC:20270311T190000
DTEND;TZID=UTC:20270311T200000
DTSTAMP:20260421T091529
CREATED:20251223T170245Z
LAST-MODIFIED:20251223T170245Z
UID:10000501-1804791600-1804795200@www.jewishsouthjersey.org
SUMMARY:Katz JCC:  Finance Committee Meeting
DESCRIPTION:Contact: Ashley Giat\nEmail: agiat@jfedsnj.org
URL:https://www.jewishsouthjersey.org/calendar/katz-jcc-finance-committee-meeting-15/
LOCATION:Virtual
CATEGORIES:Meetings
ORGANIZER;CN="Ashley Giat":MAILTO:agiat@jfedsnj.org
END:VEVENT
BEGIN:VEVENT
DTSTART;TZID=UTC:20270315T190000
DTEND;TZID=UTC:20270315T210000
DTSTAMP:20260421T091529
CREATED:20251223T170247Z
LAST-MODIFIED:20251223T170247Z
UID:10000504-1805137200-1805144400@www.jewishsouthjersey.org
SUMMARY:Katz JCC: Board of Directors Meeting
DESCRIPTION:Contact: Ashley Giat\nEmail: agiat@jfedsnj.org
URL:https://www.jewishsouthjersey.org/calendar/katz-jcc-board-of-directors-meeting-14/
LOCATION:Betty and Milton Katz JCC\, 1301 Springdale Road\, Cherry HIll\, NJ\, 08003\, US
CATEGORIES:Meetings
ORGANIZER;CN="Ashley Giat":MAILTO:agiat@jfedsnj.org
END:VEVENT
BEGIN:VEVENT
DTSTART;TZID=UTC:20270317T190000
DTEND;TZID=UTC:20270317T203000
DTSTAMP:20260421T091529
CREATED:20251223T170248Z
LAST-MODIFIED:20251223T170248Z
UID:10000505-1805310000-1805315400@www.jewishsouthjersey.org
SUMMARY:JFSNJ:  Board of Directors Meeting
DESCRIPTION:Contact: Sarah Rowland\nEmail: srowland@jfedsnj.org
URL:https://www.jewishsouthjersey.org/calendar/jfsnj-board-of-directors-meeting-14/
LOCATION:Jewish Federation of Southern New Jersey\, 1301 Springdale Road\, Suite 200\, Cherry HIll\, NJ\, 08003\, US
CATEGORIES:Meetings
ORGANIZER;CN="Sarah Rowland":MAILTO:srowland@jfedsnj.org
END:VEVENT
BEGIN:VEVENT
DTSTART;TZID=UTC:20270406T193000
DTEND;TZID=UTC:20270406T210000
DTSTAMP:20260421T091529
CREATED:20251223T170302Z
LAST-MODIFIED:20251223T170302Z
UID:10000514-1807039800-1807045200@www.jewishsouthjersey.org
SUMMARY:JCRC: Board Meeting
DESCRIPTION:Contact: Mike Iannuzzi\nEmail: miannuzzi@jfedsnj.org
URL:https://www.jewishsouthjersey.org/calendar/jcrc-board-meeting-14/
LOCATION:Jewish Federation of Southern New Jersey\, 1301 Springdale Road\, Suite 200\, Cherry HIll\, NJ\, 08003\, US
CATEGORIES:Meetings
ORGANIZER;CN="Mike Iannuzzi":MAILTO:miannuzzi@jfedsnj.org
END:VEVENT
BEGIN:VEVENT
DTSTART;TZID=UTC:20270412T180000
DTEND;TZID=UTC:20270412T190000
DTSTAMP:20260421T091529
CREATED:20251223T170305Z
LAST-MODIFIED:20251223T170305Z
UID:10000518-1807552800-1807556400@www.jewishsouthjersey.org
SUMMARY:Katz JCC:  Governance Committee
DESCRIPTION:
URL:https://www.jewishsouthjersey.org/calendar/katz-jcc-governance-committee-8/
LOCATION:Betty and Milton Katz JCC\, 1301 Springdale Road\, Cherry HIll\, NJ\, 08003\, US
CATEGORIES:Meetings
END:VEVENT
BEGIN:VEVENT
DTSTART;TZID=UTC:20270412T190000
DTEND;TZID=UTC:20270412T210000
DTSTAMP:20260421T091529
CREATED:20251223T170305Z
LAST-MODIFIED:20251223T170305Z
UID:10000519-1807556400-1807563600@www.jewishsouthjersey.org
SUMMARY:Katz JCC: Board of Directors Meeting
DESCRIPTION:Contact: Ashley Giat\nEmail: agiat@jfedsnj.org
URL:https://www.jewishsouthjersey.org/calendar/katz-jcc-board-of-directors-meeting-15/
LOCATION:Betty and Milton Katz JCC\, 1301 Springdale Road\, Cherry HIll\, NJ\, 08003\, US
CATEGORIES:Meetings
ORGANIZER;CN="Ashley Giat":MAILTO:agiat@jfedsnj.org
END:VEVENT
BEGIN:VEVENT
DTSTART;TZID=UTC:20270414T190000
DTEND;TZID=UTC:20270414T203000
DTSTAMP:20260421T091529
CREATED:20251223T170305Z
LAST-MODIFIED:20251223T170305Z
UID:10000520-1807729200-1807734600@www.jewishsouthjersey.org
SUMMARY:JFSNJ:  Board of Directors Meeting
DESCRIPTION:Contact: Sarah Rowland\nEmail: srowland@jfedsnj.org
URL:https://www.jewishsouthjersey.org/calendar/jfsnj-board-of-directors-meeting-15/
LOCATION:Jewish Federation of Southern New Jersey\, 1301 Springdale Road\, Suite 200\, Cherry HIll\, NJ\, 08003\, US
CATEGORIES:Meetings
ORGANIZER;CN="Sarah Rowland":MAILTO:srowland@jfedsnj.org
END:VEVENT
BEGIN:VEVENT
DTSTART;TZID=UTC:20270415T190000
DTEND;TZID=UTC:20270415T200000
DTSTAMP:20260421T091529
CREATED:20251223T170306Z
LAST-MODIFIED:20251223T170306Z
UID:10000521-1807815600-1807819200@www.jewishsouthjersey.org
SUMMARY:Katz JCC:  Finance Committee Meeting
DESCRIPTION:Contact: Ashley Giat\nEmail: agiat@jfedsnj.org
URL:https://www.jewishsouthjersey.org/calendar/katz-jcc-finance-committee-meeting-16/
LOCATION:Virtual
CATEGORIES:Meetings
ORGANIZER;CN="Ashley Giat":MAILTO:agiat@jfedsnj.org
END:VEVENT
BEGIN:VEVENT
DTSTART;TZID=UTC:20270420T190000
DTEND;TZID=UTC:20270420T203000
DTSTAMP:20260421T091529
CREATED:20251223T170312Z
LAST-MODIFIED:20251223T170312Z
UID:10000525-1808247600-1808253000@www.jewishsouthjersey.org
SUMMARY:JSHHS: Board of Trustees Meeting
DESCRIPTION:Contact: Lisa Tucker\nEmail: ltucker@lionsgateccrc.org\nPhone: 8566792209
URL:https://www.jewishsouthjersey.org/calendar/jshhs-board-of-trustees-meeting-5/
LOCATION:Lions Gate or Virtual
CATEGORIES:Meetings
ORGANIZER;CN="Lisa Tucker":MAILTO:ltucker@lionsgateccrc.org
END:VEVENT
BEGIN:VEVENT
DTSTART;TZID=UTC:20270504T193000
DTEND;TZID=UTC:20270504T210000
DTSTAMP:20260421T091529
CREATED:20251223T170321Z
LAST-MODIFIED:20251223T170321Z
UID:10000531-1809459000-1809464400@www.jewishsouthjersey.org
SUMMARY:JCRC: Board Meeting
DESCRIPTION:Contact: Mike Iannuzzi\nEmail: miannuzzi@jfedsnj.org
URL:https://www.jewishsouthjersey.org/calendar/jcrc-board-meeting-15/
LOCATION:Jewish Federation of Southern New Jersey\, 1301 Springdale Road\, Suite 200\, Cherry HIll\, NJ\, 08003\, US
CATEGORIES:Meetings
ORGANIZER;CN="Mike Iannuzzi":MAILTO:miannuzzi@jfedsnj.org
END:VEVENT
BEGIN:VEVENT
DTSTART;TZID=UTC:20270513T190000
DTEND;TZID=UTC:20270513T200000
DTSTAMP:20260421T091529
CREATED:20251223T170323Z
LAST-MODIFIED:20251223T170323Z
UID:10000535-1810234800-1810238400@www.jewishsouthjersey.org
SUMMARY:Katz JCC:  Finance Committee Meeting
DESCRIPTION:Contact: Ashley Giat\nEmail: agiat@jfedsnj.org
URL:https://www.jewishsouthjersey.org/calendar/katz-jcc-finance-committee-meeting-17/
LOCATION:Virtual
CATEGORIES:Meetings
ORGANIZER;CN="Ashley Giat":MAILTO:agiat@jfedsnj.org
END:VEVENT
BEGIN:VEVENT
DTSTART;TZID=UTC:20270517T190000
DTEND;TZID=UTC:20270517T210000
DTSTAMP:20260421T091529
CREATED:20251223T170328Z
LAST-MODIFIED:20251223T170328Z
UID:10000538-1810580400-1810587600@www.jewishsouthjersey.org
SUMMARY:Katz JCC: Board of Directors Meeting
DESCRIPTION:Contact: Ashley Giat\nEmail: agiat@jfedsnj.org
URL:https://www.jewishsouthjersey.org/calendar/katz-jcc-board-of-directors-meeting-16/
LOCATION:Betty and Milton Katz JCC\, 1301 Springdale Road\, Cherry HIll\, NJ\, 08003\, US
CATEGORIES:Meetings
ORGANIZER;CN="Ashley Giat":MAILTO:agiat@jfedsnj.org
END:VEVENT
BEGIN:VEVENT
DTSTART;TZID=UTC:20270519T190000
DTEND;TZID=UTC:20270519T203000
DTSTAMP:20260421T091529
CREATED:20251223T170328Z
LAST-MODIFIED:20251223T170328Z
UID:10000539-1810753200-1810758600@www.jewishsouthjersey.org
SUMMARY:JFSNJ:  Board of Directors Meeting
DESCRIPTION:Contact: Sarah Rowland\nEmail: srowland@jfedsnj.org
URL:https://www.jewishsouthjersey.org/calendar/jfsnj-board-of-directors-meeting-16/
LOCATION:Jewish Federation of Southern New Jersey\, 1301 Springdale Road\, Suite 200\, Cherry HIll\, NJ\, 08003\, US
CATEGORIES:Meetings
ORGANIZER;CN="Sarah Rowland":MAILTO:srowland@jfedsnj.org
END:VEVENT
BEGIN:VEVENT
DTSTART;TZID=UTC:20270601T193000
DTEND;TZID=UTC:20270601T210000
DTSTAMP:20260421T091529
CREATED:20251223T170338Z
LAST-MODIFIED:20251223T170338Z
UID:10000545-1811878200-1811883600@www.jewishsouthjersey.org
SUMMARY:JCRC: Board Meeting
DESCRIPTION:Contact: Mike Iannuzzi\nEmail: miannuzzi@jfedsnj.org
URL:https://www.jewishsouthjersey.org/calendar/jcrc-board-meeting-16/
LOCATION:Jewish Federation of Southern New Jersey\, 1301 Springdale Road\, Suite 200\, Cherry HIll\, NJ\, 08003\, US
CATEGORIES:Meetings
ORGANIZER;CN="Mike Iannuzzi":MAILTO:miannuzzi@jfedsnj.org
END:VEVENT
BEGIN:VEVENT
DTSTART;TZID=UTC:20270610T190000
DTEND;TZID=UTC:20270610T200000
DTSTAMP:20260421T091529
CREATED:20251223T170341Z
LAST-MODIFIED:20251223T170341Z
UID:10000551-1812654000-1812657600@www.jewishsouthjersey.org
SUMMARY:Katz JCC:  Finance Committee Meeting
DESCRIPTION:Contact: Ashley Giat\nEmail: agiat@jfedsnj.org
URL:https://www.jewishsouthjersey.org/calendar/katz-jcc-finance-committee-meeting-18/
LOCATION:Virtual
CATEGORIES:Meetings
ORGANIZER;CN="Ashley Giat":MAILTO:agiat@jfedsnj.org
END:VEVENT
BEGIN:VEVENT
DTSTART;TZID=UTC:20270614T180000
DTEND;TZID=UTC:20270614T190000
DTSTAMP:20260421T091529
CREATED:20251223T170344Z
LAST-MODIFIED:20251223T170344Z
UID:10000554-1812996000-1812999600@www.jewishsouthjersey.org
SUMMARY:Katz JCC:  Governance Committee
DESCRIPTION:
URL:https://www.jewishsouthjersey.org/calendar/katz-jcc-governance-committee-9/
LOCATION:Betty and Milton Katz JCC\, 1301 Springdale Road\, Cherry HIll\, NJ\, 08003\, US
CATEGORIES:Meetings
END:VEVENT
BEGIN:VEVENT
DTSTART;TZID=UTC:20270614T190000
DTEND;TZID=UTC:20270614T210000
DTSTAMP:20260421T091529
CREATED:20251223T170344Z
LAST-MODIFIED:20251223T170344Z
UID:10000555-1812999600-1813006800@www.jewishsouthjersey.org
SUMMARY:Katz JCC: Board of Directors Meeting
DESCRIPTION:Contact: Ashley Giat\nEmail: agiat@jfedsnj.org
URL:https://www.jewishsouthjersey.org/calendar/katz-jcc-board-of-directors-meeting-17/
LOCATION:Betty and Milton Katz JCC\, 1301 Springdale Road\, Cherry HIll\, NJ\, 08003\, US
CATEGORIES:Meetings
ORGANIZER;CN="Ashley Giat":MAILTO:agiat@jfedsnj.org
END:VEVENT
BEGIN:VEVENT
DTSTART;TZID=UTC:20270615T190000
DTEND;TZID=UTC:20270615T203000
DTSTAMP:20260421T091529
CREATED:20251223T170344Z
LAST-MODIFIED:20251223T170344Z
UID:10000556-1813086000-1813091400@www.jewishsouthjersey.org
SUMMARY:JSHHS:  Annual Meeting Board of Trustees
DESCRIPTION:
URL:https://www.jewishsouthjersey.org/calendar/jshhs-annual-meeting-board-of-trustees-2/
CATEGORIES:Meetings
END:VEVENT
BEGIN:VEVENT
DTSTART;TZID=UTC:20270616T190000
DTEND;TZID=UTC:20270616T203000
DTSTAMP:20260421T091529
CREATED:20251223T170345Z
LAST-MODIFIED:20251223T170345Z
UID:10000557-1813172400-1813177800@www.jewishsouthjersey.org
SUMMARY:JFSNJ:  Board of Directors Meeting
DESCRIPTION:Contact: Sarah Rowland\nEmail: srowland@jfedsnj.org
URL:https://www.jewishsouthjersey.org/calendar/jfsnj-board-of-directors-meeting-17/
LOCATION:Jewish Federation of Southern New Jersey\, 1301 Springdale Road\, Suite 200\, Cherry HIll\, NJ\, 08003\, US
CATEGORIES:Meetings
ORGANIZER;CN="Sarah Rowland":MAILTO:srowland@jfedsnj.org
END:VEVENT
BEGIN:VEVENT
DTSTART;TZID=UTC:20270715T190000
DTEND;TZID=UTC:20270715T200000
DTSTAMP:20260421T091529
CREATED:20251223T170401Z
LAST-MODIFIED:20251223T170401Z
UID:10000569-1815678000-1815681600@www.jewishsouthjersey.org
SUMMARY:Katz JCC:  Finance Committee Meeting
DESCRIPTION:Contact: Ashley Giat\nEmail: agiat@jfedsnj.org
URL:https://www.jewishsouthjersey.org/calendar/katz-jcc-finance-committee-meeting-19/
LOCATION:Virtual
CATEGORIES:Meetings
ORGANIZER;CN="Ashley Giat":MAILTO:agiat@jfedsnj.org
END:VEVENT
BEGIN:VEVENT
DTSTART;TZID=UTC:20270719T190000
DTEND;TZID=UTC:20270719T210000
DTSTAMP:20260421T091529
CREATED:20251223T170412Z
LAST-MODIFIED:20251223T170412Z
UID:10000573-1816023600-1816030800@www.jewishsouthjersey.org
SUMMARY:Katz JCC: Board of Directors Meeting
DESCRIPTION:Contact: Ashley Giat\nEmail: agiat@jfedsnj.org
URL:https://www.jewishsouthjersey.org/calendar/katz-jcc-board-of-directors-meeting-18/
LOCATION:Betty and Milton Katz JCC\, 1301 Springdale Road\, Cherry HIll\, NJ\, 08003\, US
CATEGORIES:Meetings
ORGANIZER;CN="Ashley Giat":MAILTO:agiat@jfedsnj.org
END:VEVENT
BEGIN:VEVENT
DTSTART;TZID=UTC:20270721T190000
DTEND;TZID=UTC:20270721T203000
DTSTAMP:20260421T091529
CREATED:20251223T170412Z
LAST-MODIFIED:20251223T170412Z
UID:10000574-1816196400-1816201800@www.jewishsouthjersey.org
SUMMARY:JFSNJ:  Board of Directors Meeting
DESCRIPTION:Contact: Sarah Rowland\nEmail: srowland@jfedsnj.org
URL:https://www.jewishsouthjersey.org/calendar/jfsnj-board-of-directors-meeting-18/
LOCATION:Jewish Federation of Southern New Jersey\, 1301 Springdale Road\, Suite 200\, Cherry HIll\, NJ\, 08003\, US
CATEGORIES:Meetings
ORGANIZER;CN="Sarah Rowland":MAILTO:srowland@jfedsnj.org
END:VEVENT
BEGIN:VEVENT
DTSTART;TZID=UTC:20270812T190000
DTEND;TZID=UTC:20270812T200000
DTSTAMP:20260421T091529
CREATED:20251223T170418Z
LAST-MODIFIED:20251223T170418Z
UID:10000583-1818097200-1818100800@www.jewishsouthjersey.org
SUMMARY:Katz JCC:  Finance Committee Meeting
DESCRIPTION:Contact: Ashley Giat\nEmail: agiat@jfedsnj.org
URL:https://www.jewishsouthjersey.org/calendar/katz-jcc-finance-committee-meeting-20/
LOCATION:Virtual
CATEGORIES:Meetings
ORGANIZER;CN="Ashley Giat":MAILTO:agiat@jfedsnj.org
END:VEVENT
BEGIN:VEVENT
DTSTART;TZID=UTC:20270816T190000
DTEND;TZID=UTC:20270816T210000
DTSTAMP:20260421T091529
CREATED:20251223T170419Z
LAST-MODIFIED:20251223T170419Z
UID:10000586-1818442800-1818450000@www.jewishsouthjersey.org
SUMMARY:Katz JCC: Board of Directors Meeting
DESCRIPTION:Contact: Ashley Giat\nEmail: agiat@jfedsnj.org
URL:https://www.jewishsouthjersey.org/calendar/katz-jcc-board-of-directors-meeting-19/
LOCATION:Betty and Milton Katz JCC\, 1301 Springdale Road\, Cherry HIll\, NJ\, 08003\, US
CATEGORIES:Meetings
ORGANIZER;CN="Ashley Giat":MAILTO:agiat@jfedsnj.org
END:VEVENT
BEGIN:VEVENT
DTSTART;TZID=UTC:20270817T190000
DTEND;TZID=UTC:20270817T203000
DTSTAMP:20260421T091529
CREATED:20251223T170420Z
LAST-MODIFIED:20251223T170420Z
UID:10000587-1818529200-1818534600@www.jewishsouthjersey.org
SUMMARY:JSHHS: Board of Trustees Meeting
DESCRIPTION:Contact: Lisa Tucker\nEmail: ltucker@lionsgateccrc.org\nPhone: 8566792209
URL:https://www.jewishsouthjersey.org/calendar/jshhs-board-of-trustees-meeting-6/
LOCATION:Lions Gate or Virtual
CATEGORIES:Meetings
ORGANIZER;CN="Lisa Tucker":MAILTO:ltucker@lionsgateccrc.org
END:VEVENT
BEGIN:VEVENT
DTSTART;TZID=UTC:20270818T190000
DTEND;TZID=UTC:20270818T203000
DTSTAMP:20260421T091529
CREATED:20251223T170430Z
LAST-MODIFIED:20251223T170430Z
UID:10000588-1818615600-1818621000@www.jewishsouthjersey.org
SUMMARY:JFSNJ:  Board of Directors Meeting
DESCRIPTION:Contact: Sarah Rowland\nEmail: srowland@jfedsnj.org
URL:https://www.jewishsouthjersey.org/calendar/jfsnj-board-of-directors-meeting-19/
LOCATION:Jewish Federation of Southern New Jersey\, 1301 Springdale Road\, Suite 200\, Cherry HIll\, NJ\, 08003\, US
CATEGORIES:Meetings
ORGANIZER;CN="Sarah Rowland":MAILTO:srowland@jfedsnj.org
END:VEVENT
BEGIN:VEVENT
DTSTART;TZID=UTC:20270907T193000
DTEND;TZID=UTC:20270907T210000
DTSTAMP:20260421T091529
CREATED:20251223T170436Z
LAST-MODIFIED:20251223T170436Z
UID:10000598-1820345400-1820350800@www.jewishsouthjersey.org
SUMMARY:JCRC: Board Meeting
DESCRIPTION:Contact: Mike Iannuzzi\nEmail: miannuzzi@jfedsnj.org
URL:https://www.jewishsouthjersey.org/calendar/jcrc-board-meeting-17/
LOCATION:Jewish Federation of Southern New Jersey\, 1301 Springdale Road\, Suite 200\, Cherry HIll\, NJ\, 08003\, US
CATEGORIES:Meetings
ORGANIZER;CN="Mike Iannuzzi":MAILTO:miannuzzi@jfedsnj.org
END:VEVENT
END:VCALENDAR