BEGIN:VCALENDAR
VERSION:2.0
PRODID:-//Jewish Federation of Southern New Jersey - ECPv6.15.20//NONSGML v1.0//EN
CALSCALE:GREGORIAN
METHOD:PUBLISH
X-WR-CALNAME:Jewish Federation of Southern New Jersey
X-ORIGINAL-URL:https://www.jewishsouthjersey.org
X-WR-CALDESC:Events for Jewish Federation of Southern New Jersey
REFRESH-INTERVAL;VALUE=DURATION:PT1H
X-Robots-Tag:noindex
X-PUBLISHED-TTL:PT1H
BEGIN:VTIMEZONE
TZID:UTC
BEGIN:STANDARD
TZOFFSETFROM:+0000
TZOFFSETTO:+0000
TZNAME:UTC
DTSTART:20250101T000000
END:STANDARD
END:VTIMEZONE
BEGIN:VEVENT
DTSTART;TZID=UTC:20260511T120000
DTEND;TZID=UTC:20260511T130000
DTSTAMP:20260420T210816
CREATED:20251223T165208Z
LAST-MODIFIED:20251223T165208Z
UID:10000276-1778500800-1778504400@www.jewishsouthjersey.org
SUMMARY:JFCS:  Older Adults Committee Meeting
DESCRIPTION:Contact: Rebecca Rosenau\nEmail: rroseanau@jfedsnj.org\nPhone: 856-424-1333 X1702
URL:https://www.jewishsouthjersey.org/calendar/jfcs-older-adults-committee-meeting-2/
LOCATION:Virtual
CATEGORIES:Meetings
ORGANIZER;CN="Rebecca Rosenau":MAILTO:rroseanau@jfedsnj.org
END:VEVENT
BEGIN:VEVENT
DTSTART;TZID=UTC:20260511T190000
DTEND;TZID=UTC:20260511T203000
DTSTAMP:20260420T210816
CREATED:20251223T165208Z
LAST-MODIFIED:20251223T165208Z
UID:10000277-1778526000-1778531400@www.jewishsouthjersey.org
SUMMARY:JFCS:  Board Of Directors Meeting
DESCRIPTION:Contact: Kelly Guiliano\nEmail: 856-424-1333\nPhone: kguilliano@jfedsnj.org
URL:https://www.jewishsouthjersey.org/calendar/jfcs-board-of-directors-meeting-4/
LOCATION:JFED Board Room
CATEGORIES:Meetings
ORGANIZER;CN="Kelly Guiliano":MAILTO:kguiliano@jfedsnj.org
END:VEVENT
BEGIN:VEVENT
DTSTART;TZID=UTC:20260511T193000
DTEND;TZID=UTC:20260511T210000
DTSTAMP:20260420T210816
CREATED:20251223T165235Z
LAST-MODIFIED:20251223T165235Z
UID:10000279-1778527800-1778533200@www.jewishsouthjersey.org
SUMMARY:KBA: Board of Trustees Meeting
DESCRIPTION:
URL:https://www.jewishsouthjersey.org/calendar/kba-board-of-trustees-meeting-5/
LOCATION:Virtual
CATEGORIES:Meetings
END:VEVENT
BEGIN:VEVENT
DTSTART;TZID=UTC:20260512T193000
DTEND;TZID=UTC:20260512T210000
DTSTAMP:20260420T210816
CREATED:20251223T165236Z
LAST-MODIFIED:20251223T165236Z
UID:10000281-1778614200-1778619600@www.jewishsouthjersey.org
SUMMARY:JCRC: Board Meeting
DESCRIPTION:Contact: Mike Iannuzzi\nEmail: miannuzzi@jfedsnj.org
URL:https://www.jewishsouthjersey.org/calendar/jcrc-board-meeting-5/
LOCATION:Jewish Federation of Southern New Jersey\, 1301 Springdale Road\, Suite 200\, Cherry HIll\, NJ\, 08003\, US
CATEGORIES:Meetings
ORGANIZER;CN="Mike Iannuzzi":MAILTO:miannuzzi@jfedsnj.org
END:VEVENT
BEGIN:VEVENT
DTSTART;TZID=UTC:20260514T190000
DTEND;TZID=UTC:20260514T200000
DTSTAMP:20260420T210816
CREATED:20251223T165337Z
LAST-MODIFIED:20251223T165337Z
UID:10000285-1778785200-1778788800@www.jewishsouthjersey.org
SUMMARY:Katz JCC:  Finance Committee Meeting
DESCRIPTION:Contact: Ashley Giat\nEmail: agiat@jfedsnj.org
URL:https://www.jewishsouthjersey.org/calendar/katz-jcc-finance-committee-meeting-5/
LOCATION:Virtual
CATEGORIES:Meetings
ORGANIZER;CN="Ashley Giat":MAILTO:agiat@jfedsnj.org
END:VEVENT
END:VCALENDAR