BEGIN:VCALENDAR
VERSION:2.0
PRODID:-//Jewish Federation of Southern New Jersey - ECPv6.15.20//NONSGML v1.0//EN
CALSCALE:GREGORIAN
METHOD:PUBLISH
X-WR-CALNAME:Jewish Federation of Southern New Jersey
X-ORIGINAL-URL:https://www.jewishsouthjersey.org
X-WR-CALDESC:Events for Jewish Federation of Southern New Jersey
REFRESH-INTERVAL;VALUE=DURATION:PT1H
X-Robots-Tag:noindex
X-PUBLISHED-TTL:PT1H
BEGIN:VTIMEZONE
TZID:UTC
BEGIN:STANDARD
TZOFFSETFROM:+0000
TZOFFSETTO:+0000
TZNAME:UTC
DTSTART:20250101T000000
END:STANDARD
END:VTIMEZONE
BEGIN:VEVENT
DTSTART;TZID=UTC:20260608T193000
DTEND;TZID=UTC:20260608T210000
DTSTAMP:20260420T223328
CREATED:20251223T165621Z
LAST-MODIFIED:20251223T165621Z
UID:10000316-1780947000-1780952400@www.jewishsouthjersey.org
SUMMARY:KBA: Board of Trustees Meeting
DESCRIPTION:
URL:https://www.jewishsouthjersey.org/calendar/kba-board-of-trustees-meeting-6/
LOCATION:Virtual
CATEGORIES:Meetings
END:VEVENT
BEGIN:VEVENT
DTSTART;TZID=UTC:20260609T193000
DTEND;TZID=UTC:20260609T210000
DTSTAMP:20260420T223328
CREATED:20251223T165621Z
LAST-MODIFIED:20251223T165621Z
UID:10000317-1781033400-1781038800@www.jewishsouthjersey.org
SUMMARY:JCRC: Board Meeting
DESCRIPTION:Contact: Mike Iannuzzi\nEmail: miannuzzi@jfedsnj.org
URL:https://www.jewishsouthjersey.org/calendar/jcrc-board-meeting-6/
LOCATION:Jewish Federation of Southern New Jersey\, 1301 Springdale Road\, Suite 200\, Cherry HIll\, NJ\, 08003\, US
CATEGORIES:Meetings
ORGANIZER;CN="Mike Iannuzzi":MAILTO:miannuzzi@jfedsnj.org
END:VEVENT
BEGIN:VEVENT
DTSTART;TZID=UTC:20260610T190000
DTEND;TZID=UTC:20260610T210000
DTSTAMP:20260420T223328
CREATED:20251223T165627Z
LAST-MODIFIED:20251223T165627Z
UID:10000319-1781118000-1781125200@www.jewishsouthjersey.org
SUMMARY:JCRC: BookMates Appreciation Event
DESCRIPTION:Contact: Rhonda Shevrin\nEmail: bookmates@jfedsnj.org
URL:https://www.jewishsouthjersey.org/calendar/jcrc-bookmates-appreciation-event/
LOCATION:Betty and Milton Katz JCC\, 1301 Springdale Road\, Cherry HIll\, NJ\, 08003\, US
CATEGORIES:Meetings
ORGANIZER;CN="Rhonda Shevrin":MAILTO:bookmates@jfedsnj.org
END:VEVENT
BEGIN:VEVENT
DTSTART;TZID=UTC:20260611T190000
DTEND;TZID=UTC:20260611T200000
DTSTAMP:20260420T223328
CREATED:20251223T165628Z
LAST-MODIFIED:20251223T165628Z
UID:10000321-1781204400-1781208000@www.jewishsouthjersey.org
SUMMARY:Katz JCC:  Finance Committee Meeting
DESCRIPTION:Contact: Ashley Giat\nEmail: agiat@jfedsnj.org
URL:https://www.jewishsouthjersey.org/calendar/katz-jcc-finance-committee-meeting-6/
LOCATION:Virtual
CATEGORIES:Meetings
ORGANIZER;CN="Ashley Giat":MAILTO:agiat@jfedsnj.org
END:VEVENT
BEGIN:VEVENT
DTSTART;TZID=UTC:20260611T190000
DTEND;TZID=UTC:20260611T220000
DTSTAMP:20260420T223328
CREATED:20251223T165628Z
LAST-MODIFIED:20251223T165628Z
UID:10000320-1781204400-1781215200@www.jewishsouthjersey.org
SUMMARY:Temple Beth Sholom: Annual Meeting
DESCRIPTION:Annual congregational meeting for TBS \nContact: Ron Safier\nEmail: rons@tbsonline.org\nPhone: 856-751-6663\nMore Info: http://www.tbsonline.org
URL:https://www.jewishsouthjersey.org/calendar/temple-beth-sholom-annual-meeting/
LOCATION:Temple Beth Sholom\, 1901 Kresson Rd\, Cherry Hill\, NJ\, 08003\, United States
CATEGORIES:Meetings
ORGANIZER;CN="Ron Safier":MAILTO:rons@tbsonline.org
END:VEVENT
END:VCALENDAR