BEGIN:VCALENDAR
VERSION:2.0
PRODID:-//Jewish Federation of Southern New Jersey - ECPv6.15.20//NONSGML v1.0//EN
CALSCALE:GREGORIAN
METHOD:PUBLISH
X-WR-CALNAME:Jewish Federation of Southern New Jersey
X-ORIGINAL-URL:https://www.jewishsouthjersey.org
X-WR-CALDESC:Events for Jewish Federation of Southern New Jersey
REFRESH-INTERVAL;VALUE=DURATION:PT1H
X-Robots-Tag:noindex
X-PUBLISHED-TTL:PT1H
BEGIN:VTIMEZONE
TZID:UTC
BEGIN:STANDARD
TZOFFSETFROM:+0000
TZOFFSETTO:+0000
TZNAME:UTC
DTSTART:20250101T000000
END:STANDARD
END:VTIMEZONE
BEGIN:VEVENT
DTSTART;TZID=UTC:20260818T190000
DTEND;TZID=UTC:20260818T203000
DTSTAMP:20260421T205607
CREATED:20251223T165850Z
LAST-MODIFIED:20251223T165850Z
UID:10000373-1787079600-1787085000@www.jewishsouthjersey.org
SUMMARY:JSHHS: Board of Trustees Meeting
DESCRIPTION:Contact: Lisa Tucker\nEmail: ltucker@lionsgateccrc.org\nPhone: 8566792209
URL:https://www.jewishsouthjersey.org/calendar/jshhs-board-of-trustees-meeting-2/
LOCATION:Lions Gate or Virtual
CATEGORIES:Meetings
ORGANIZER;CN="Lisa Tucker":MAILTO:ltucker@lionsgateccrc.org
END:VEVENT
END:VCALENDAR