BEGIN:VCALENDAR
VERSION:2.0
PRODID:-//Jewish Federation of Southern New Jersey - ECPv6.15.20//NONSGML v1.0//EN
CALSCALE:GREGORIAN
METHOD:PUBLISH
X-WR-CALNAME:Jewish Federation of Southern New Jersey
X-ORIGINAL-URL:https://www.jewishsouthjersey.org
X-WR-CALDESC:Events for Jewish Federation of Southern New Jersey
REFRESH-INTERVAL;VALUE=DURATION:PT1H
X-Robots-Tag:noindex
X-PUBLISHED-TTL:PT1H
BEGIN:VTIMEZONE
TZID:UTC
BEGIN:STANDARD
TZOFFSETFROM:+0000
TZOFFSETTO:+0000
TZNAME:UTC
DTSTART:20250101T000000
END:STANDARD
END:VTIMEZONE
BEGIN:VEVENT
DTSTART;VALUE=DATE:20260417
DTEND;VALUE=DATE:20260425
DTSTAMP:20260420T101323
CREATED:20260310T075633Z
LAST-MODIFIED:20260417T141602Z
UID:10000003-1776384000-1777075199@www.jewishsouthjersey.org
SUMMARY:Thank you for attending Love Impact Awards 2026
DESCRIPTION:Honoring the legacy of Donald Love\, z”l\, the Jewish Federation of Southern New Jersey established the Love Impact Awards to celebrate those in our community who follow in Don’s footsteps of volunteer work. Don was an innovator and always looked at how programs could make an impact in our community. The Love Impact Awards will honor local volunteers whose meaningful service has made a lasting difference in Southern New Jersey\, just as Don’s lifetime of dedication and volunteerism did. \nThe Love Impact Awards celebrates award recipients across our Five Areas of Impact – Older Adults\, Disability Services\, Global Connections\, Community Engagement\, and Family & Youth. These Areas of Impact and their related programs and services offer comprehensive support to all ages and to the diverse needs and interests of our community. This year\, we have added a sixth award\, The Love Legacy Award\, to celebrate Legacy Giving\, which is essential for sustaining the programs and services across all Five Areas of Impact.  Legacy Gifts help ensure our community will thrive for many years to come. We hope you will join us to honor the local volunteers whose work has made a lasting impact in the Southern New Jersey Jewish community.   \n\nHonoring the legacy of Donald Love\, z”l\, the Jewish Federation of Southern New Jersey established the Love Impact Awards to celebrate those in our community who follow in Don’s footsteps of volunteer work. Don was an innovator and always looked at how programs could make an impact in our community. The Love Impact Awards will honor local volunteers whose sacred work has made a lasting impact in Southern New Jersey\, just like Don’s lifetime of volunteering did. \nOur Jewish Federation and family of agencies distribute our resources into five Areas of Impact – Older Adults\, Disability Services\, Global Connections\, Community Engagement\, and Family & Youth. These Areas of Impact and their related programs and services offer comprehensive support to all ages and to the diverse needs and interests of our community. The Love Impact Awards honors local volunteers whose work has made a lasting impact in the Southern New Jersey Jewish Community in Legacy Giving and each of the Areas of Impact. \nHelp us celebrate Don’s life by nominating a local volunteer that has made a positive impact in our Jewish community in one of our Areas of Impact. \nThank you to all those who attended our 2026 Love Impact Awards!\n\nThere’s still time to make a tribute donation in honor of this year’s honorees.\n					\n									Make your tribute donation here\n					 \nThursday\, April 16\n6pm\nLOCATION CHANGE: Congregation Beth El\nIndividual Ticket: $136\nEnjoy elaborate hors d’oeuvres\, cocktails and dessert.Catered by Deluxe Catering under the supervision of Keystone-K. \nREGISTER BY TUESDAY\, MARCH 31.\nPre-registration required. No walk-ins.\nRegister or become a sponsor below. The print deadline for tribute ads has passed\, but you can still purchase a tribute card in honor of an honoree here.\n					\n									Register\n					\n					\n									View sponsorship benefits here\n					 \nCo-Chairs:Caroline Austin & Mark Shapiro \nHonorary Chair:Judy Love \nCongratulations to our Love Impact Award Honorees!\n																														 \nLove Legacy\nJodi & Neil Levine \n																														 \nOlder Adults\nAlison Platt-Tarnopol \n																														 \nDisability Services\nSusan J. Levine \n																														 \nGlobal Connections\nJason Wolf \n																														 \nCommunity Engagement\nSusan Dermer \n																														 \nFamily & Youth\nAdrienne Rosenthal \nQuestions? Please contact Iris Snyder\, Senior Project Manager\, with any questionsat isnyder@jfedsnj.org or 856.751.9500 x1118. \nFor sponsorship or tribute ad questions\, please contact Sarah Zalcmann\, Development Associate\,at szalcmann@jfedsnj.org or 856.751.9500 x1279. \nNominations close on Tuesday\, December 23.\n					\n									Nominate Here\n					 \nOur 2024 Love Impact Award Winners\nOlder Adults – Louise Katz \nDisability Services – Mindy Rosen \nGlobal Connections – Avital Zeffren (Baked B’Ahava) \nCommunity Engagement – Mark Shapiro \nFamily & Youth – Brooke Mailhiot \nThank you to our Love Impact Event Sponsors\nDiamond\n																														 \nJodi & Neil Levine\nJudy Love & Family\nSapphire\nThe Jeff & Tracy Brown Foundation \nDonna & Rick Forman \nFox Rothschild LLP \nFreedom MortgageRos & Stan Middleman \nHolman \nNeedleman Management \nPlatt Memorial Chapels\, Inc. \nRavitz Family ShopRite Markets \nVineland Construction & Anne Koons \nEmerald\nKathy & Fred Berk \nSherri & Alan Breslow \nStefanie & Steven Cohen \nThe Delaware Valley Group at Morgan StanleyEric Boory & Steven Borenstein \nEric Meller/M. Rosenblatt Roofing \nEvesham Veterinary Clinic \nHyland Levin Shapiro LLP \nLaScala Restaurant Group \nSusan & Howard Levine z”l \nCarol Lupo\, CIMAThe Princeton Group \nPULLP \nLori & Jay Rovins \nRRBB Advisors LLC \nNurit Margulies & Paul Samuels \nGigi & Brad Schwartz \nAllison & David Snyder \nThe Stevens Vellucci Group at Morgan Stanley \nWolf Commercial Real Estate (WCRE) \nRuby\nBarbara & Stewart Abrams \nMarylee & Stuart Alperin \nNanci & Michael Epstein \nFriends of Jason Wolf \nGolden Nugget Jewelers \nMichael Greenspun \nHardenbergh Insurance Group \nSusan Bass Levin \nMarcum Asia CPAs LLP \nAnn & Bernie Miller \nMorgan Law LLC \nJamie & Jesse Richman \nSurety Title Company \nCindy Yellin \nView this year’s Love Impact Awards tribute book!\n									 \nRegister\, become a sponsor\, or purchase a tribute ad.
URL:https://www.jewishsouthjersey.org/calendar/loveimpactawards/
LOCATION:Jewish Federation of Southern New Jersey\, 1301 Springdale Road\, Suite 200\, Cherry HIll\, NJ\, 08003\, US
CATEGORIES:Community Engagement,Events,Women's Philanthropy,Young Adult Division (YAD)
ATTACH;FMTTYPE=image/png:https://www.jewishsouthjersey.org/wp-content/uploads/2026/03/Love-Impact-Awards-26_homepage2.png
END:VEVENT
BEGIN:VEVENT
DTSTART;TZID=UTC:20260420T190000
DTEND;TZID=UTC:20260420T203000
DTSTAMP:20260420T101323
CREATED:20251223T164958Z
LAST-MODIFIED:20251223T164958Z
UID:10000237-1776711600-1776717000@www.jewishsouthjersey.org
SUMMARY:JCRC: Yom HaZikaron Ceremony
DESCRIPTION:Contact: Amir Silber\nEmail: asilber@jfedsnj.org
URL:https://www.jewishsouthjersey.org/calendar/jcrc-yom-hazikaron-ceremony/
LOCATION:Betty and Milton Katz JCC\, 1301 Springdale Road\, Cherry HIll\, NJ\, 08003\, US
CATEGORIES:Community Engagement
ORGANIZER;CN="Amir Silber":MAILTO:asilber@jfedsnj.org
END:VEVENT
BEGIN:VEVENT
DTSTART;TZID=UTC:20260420T190000
DTEND;TZID=UTC:20260420T203000
DTSTAMP:20260420T101323
CREATED:20251223T165001Z
LAST-MODIFIED:20251223T165001Z
UID:10000238-1776711600-1776717000@www.jewishsouthjersey.org
SUMMARY:JFCS:  Board Of Directors Meeting
DESCRIPTION:Contact: Kelly Guiliano\nEmail: 856-424-1333\nPhone: kguilliano@jfedsnj.org
URL:https://www.jewishsouthjersey.org/calendar/jfcs-board-of-directors-meeting-3/
LOCATION:JFED Board Room
CATEGORIES:Meetings
ORGANIZER;CN="Kelly Guiliano":MAILTO:kguiliano@jfedsnj.org
END:VEVENT
BEGIN:VEVENT
DTSTART;TZID=UTC:20260422T190000
DTEND;TZID=UTC:20260422T210000
DTSTAMP:20260420T101323
CREATED:20251223T165002Z
LAST-MODIFIED:20251223T165002Z
UID:10000239-1776884400-1776891600@www.jewishsouthjersey.org
SUMMARY:JFED:  FLI Session
DESCRIPTION:
URL:https://www.jewishsouthjersey.org/calendar/jfed-fli-session-6/
LOCATION:Jewish Federation of Southern New Jersey\, 1301 Springdale Road\, Suite 200\, Cherry HIll\, NJ\, 08003\, US
CATEGORIES:Community Engagement
END:VEVENT
BEGIN:VEVENT
DTSTART;TZID=UTC:20260422T190000
DTEND;TZID=UTC:20260422T210000
DTSTAMP:20260420T101323
CREATED:20251223T165002Z
LAST-MODIFIED:20251223T165002Z
UID:10000240-1776884400-1776891600@www.jewishsouthjersey.org
SUMMARY:JCF: Grants Committee
DESCRIPTION:Contact: Mike Staff\nEmail: mstaff@jfedsnj.org\nPhone: 8566732528\nMore Info: http://jcfsnj.org/grants
URL:https://www.jewishsouthjersey.org/calendar/jcf-grants-committee/
LOCATION:Jewish Federation of Southern New Jersey\, 1301 Springdale Road\, Suite 200\, Cherry HIll\, NJ\, 08003\, US
CATEGORIES:Meetings
ORGANIZER;CN="Mike Staff":MAILTO:mstaff@jfedsnj.org
END:VEVENT
BEGIN:VEVENT
DTSTART;VALUE=DATE:20260423
DTEND;VALUE=DATE:20260424
DTSTAMP:20260420T101323
CREATED:20251223T165002Z
LAST-MODIFIED:20251223T165002Z
UID:10000241-1776902400-1776988799@www.jewishsouthjersey.org
SUMMARY:Temple Beth Sholom:  Taste of Israel with Nissimi Naim Naor: Temple Beth Sholom Major Spring Event
DESCRIPTION:Temple Beth Sholom welcomes Israeli Chef and Rabbi\, Nissimi Naim Naor for a taste of Israel weekend. Thursday night is the headline event with Nissimi kicking off a fabulous scholar-in-residence weekend. \nContact: John Imhof\nEmail: john.imhof@icloud.com\nPhone: (856) 751-6663
URL:https://www.jewishsouthjersey.org/calendar/temple-beth-sholom-taste-of-israel-with-nissimi-naim-naor-temple-beth-sholom-major-spring-event/
LOCATION:Temple Beth Sholom\, 1901 Kresson Rd\, Cherry Hill\, NJ\, 08003\, United States
CATEGORIES:Community Engagement
ORGANIZER;CN="John Imhof":MAILTO:john.imhof@icloud.com
END:VEVENT
BEGIN:VEVENT
DTSTART;TZID=UTC:20260423T100000
DTEND;TZID=UTC:20260423T100000
DTSTAMP:20260420T101323
CREATED:20251223T165003Z
LAST-MODIFIED:20251223T165003Z
UID:10000242-1776938400-1776938400@www.jewishsouthjersey.org
SUMMARY:Temple Beth Sholom:  Happy Song Music Class
DESCRIPTION:Weekly Interactive Music Sessions for Newborns – Age 3 (with a parent or caregiver) – with MUSIC PLAY PATROL Each session includes a special Shabbat celebration with TBS clergy and educators! Spring Session: April 16-May 26 (no class on May 21) \nMore Info: https://www.tbsonline.org/happy-song-music-class.html
URL:https://www.jewishsouthjersey.org/calendar/temple-beth-sholom-happy-song-music-class-9/
LOCATION:Temple Beth Sholom\, 1901 Kresson Rd\, Cherry Hill\, NJ\, 08003\, United States
CATEGORIES:Family & Youth
END:VEVENT
BEGIN:VEVENT
DTSTART;TZID=UTC:20260423T190000
DTEND;TZID=UTC:20260423T200000
DTSTAMP:20260420T101323
CREATED:20251223T165019Z
LAST-MODIFIED:20251223T165019Z
UID:10000243-1776970800-1776974400@www.jewishsouthjersey.org
SUMMARY:Katz JCC:  Finance Committee Meeting
DESCRIPTION:Contact: Ashley Giat\nEmail: agiat@jfedsnj.org
URL:https://www.jewishsouthjersey.org/calendar/katz-jcc-finance-committee-meeting-4/
LOCATION:Virtual
CATEGORIES:Meetings
ORGANIZER;CN="Ashley Giat":MAILTO:agiat@jfedsnj.org
END:VEVENT
BEGIN:VEVENT
DTSTART;VALUE=DATE:20260424
DTEND;VALUE=DATE:20260425
DTSTAMP:20260420T101323
CREATED:20251223T165019Z
LAST-MODIFIED:20251223T165019Z
UID:10000244-1776988800-1777075199@www.jewishsouthjersey.org
SUMMARY:Temple Beth Sholom:  Scholar in Residence Israel Weekend
DESCRIPTION:More Info: https://www.tbsonline.org/
URL:https://www.jewishsouthjersey.org/calendar/temple-beth-sholom-scholar-in-residence-israel-weekend/
LOCATION:Temple Beth Sholom\, 1901 Kresson Rd\, Cherry Hill\, NJ\, 08003\, United States
CATEGORIES:Community Engagement
END:VEVENT
BEGIN:VEVENT
DTSTART;TZID=UTC:20260424T190000
DTEND;TZID=UTC:20260424T203000
DTSTAMP:20260420T101323
CREATED:20251223T165020Z
LAST-MODIFIED:20251223T165020Z
UID:10000245-1777057200-1777062600@www.jewishsouthjersey.org
SUMMARY:Cong Kol Ami:  Shabbat Evening Services
DESCRIPTION:We encourage you to join our weekly services so we can draw strength from our traditions and from our connections to one another. We celebrate Anniversaries on the FIRST Friday of each month We celebrate Birthdays on the FOURTH Friday of each month. \n For those unable to join us in the Sanctuary\, please join us via livestream at www.kolaminj.org/livestream. \nContact: Amy Stanley\nEmail: amy@kolaminj.org\nPhone: 856-489-0029\nMore Info: https://www.kolaminj.org
URL:https://www.jewishsouthjersey.org/calendar/cong-kol-ami-shabbat-evening-services-18/
LOCATION:Congregation Kol Ami\, 1101 Springdale Road\, Cherry Hill\, NJ\, 08003\, United States
CATEGORIES:Community Engagement
ORGANIZER;CN="Amy Stanley":MAILTO:amy@kolaminj.org
END:VEVENT
BEGIN:VEVENT
DTSTART;TZID=UTC:20260424T193000
DTEND;TZID=UTC:20260424T203000
DTSTAMP:20260420T101323
CREATED:20251223T165020Z
LAST-MODIFIED:20251223T165020Z
UID:10000246-1777059000-1777062600@www.jewishsouthjersey.org
SUMMARY:Temple Har Zion:  Shabbat Services
DESCRIPTION:Join the THZ family for uplifting Shabbat services with Rabbi Nathan Weiner\, followed by our friendly and flavor-filled oneg. RSVP@templeharzion.org. \nContact: Rabbi Nathan Weiner\nEmail: info@templeharzion.org\nPhone: 609-267-0660\nMore Info: https://templeharzion.org/shabbat/
URL:https://www.jewishsouthjersey.org/calendar/temple-har-zion-shabbat-services-35/
LOCATION:Temple Har Zion\, 255 High St.\, Mt. Holly\, NJ\, 08060\, United States
CATEGORIES:Community Engagement
ORGANIZER;CN="Rabbi Nathan Weiner":MAILTO:info@templeharzion.org
END:VEVENT
BEGIN:VEVENT
DTSTART;VALUE=DATE:20260425
DTEND;VALUE=DATE:20260426
DTSTAMP:20260420T101323
CREATED:20251223T165020Z
LAST-MODIFIED:20251223T165020Z
UID:10000247-1777075200-1777161599@www.jewishsouthjersey.org
SUMMARY:Temple Beth Sholom:  Scholar in Residence Israel Weekend
DESCRIPTION:More Info: https://www.tbsonline.org/
URL:https://www.jewishsouthjersey.org/calendar/temple-beth-sholom-scholar-in-residence-israel-weekend-2/
LOCATION:Temple Beth Sholom\, 1901 Kresson Rd\, Cherry Hill\, NJ\, 08003\, United States
CATEGORIES:Community Engagement
END:VEVENT
BEGIN:VEVENT
DTSTART;TZID=UTC:20260425T100000
DTEND;TZID=UTC:20260425T120000
DTSTAMP:20260420T101323
CREATED:20251223T165036Z
LAST-MODIFIED:20251223T165036Z
UID:10000248-1777111200-1777118400@www.jewishsouthjersey.org
SUMMARY:Temple Har Zion:  Shabbat Services
DESCRIPTION:Contact: Rabbi Nathan Weiner\nEmail: info@templeharzion.org\nPhone: 609-267-0660\nMore Info: https://templeharzion.org/shabbat/
URL:https://www.jewishsouthjersey.org/calendar/temple-har-zion-shabbat-services-36/
LOCATION:Temple Har Zion\, 255 High St.\, Mt. Holly\, NJ\, 08060\, United States
CATEGORIES:Community Engagement
ORGANIZER;CN="Rabbi Nathan Weiner":MAILTO:info@templeharzion.org
END:VEVENT
BEGIN:VEVENT
DTSTART;VALUE=DATE:20260426
DTEND;VALUE=DATE:20260427
DTSTAMP:20260420T101323
CREATED:20251223T165037Z
LAST-MODIFIED:20251223T165037Z
UID:10000249-1777161600-1777247999@www.jewishsouthjersey.org
SUMMARY:Temple Beth Sholom:  Scholar in Residence Israel Weekend
DESCRIPTION:More Info: https://www.tbsonline.org/
URL:https://www.jewishsouthjersey.org/calendar/temple-beth-sholom-scholar-in-residence-israel-weekend-3/
LOCATION:Temple Beth Sholom\, 1901 Kresson Rd\, Cherry Hill\, NJ\, 08003\, United States
CATEGORIES:Community Engagement
END:VEVENT
BEGIN:VEVENT
DTSTART;TZID=UTC:20260426T100000
DTEND;TZID=UTC:20260426T110000
DTSTAMP:20260420T101323
CREATED:20260327T152450Z
LAST-MODIFIED:20260331T170929Z
UID:10000672-1777197600-1777201200@www.jewishsouthjersey.org
SUMMARY:PJ Library KBA Playdate
DESCRIPTION:
URL:https://www.jewishsouthjersey.org/calendar/pj-library-playdate/
CATEGORIES:Events,Young Adult Division (YAD)
ATTACH;FMTTYPE=image/jpeg:https://www.jewishsouthjersey.org/wp-content/uploads/2026/03/Web-3.jpg
END:VEVENT
BEGIN:VEVENT
DTSTART;TZID=UTC:20260426T100000
DTEND;TZID=UTC:20260426T150000
DTSTAMP:20260420T101323
CREATED:20251223T165037Z
LAST-MODIFIED:20251223T165037Z
UID:10000250-1777197600-1777215600@www.jewishsouthjersey.org
SUMMARY:Katz JCC:  Family Day at the J
DESCRIPTION:Family fun at the JCC\, open to everyone\, no cost to attend. \nContact: Barbara Rimerman\nEmail: brimerman@jfedsnj.org
URL:https://www.jewishsouthjersey.org/calendar/katz-jcc-family-day-at-the-j/
LOCATION:Betty and Milton Katz JCC\, 1301 Springdale Road\, Cherry HIll\, NJ\, 08003\, US
CATEGORIES:Community Engagement
ORGANIZER;CN="Barbara Rimerman":MAILTO:brimerman@jfedsnj.org
END:VEVENT
BEGIN:VEVENT
DTSTART;TZID=UTC:20260427T180000
DTEND;TZID=UTC:20260427T190000
DTSTAMP:20260420T101323
CREATED:20251223T165038Z
LAST-MODIFIED:20251223T165038Z
UID:10000251-1777312800-1777316400@www.jewishsouthjersey.org
SUMMARY:Katz JCC:  Governance Committee
DESCRIPTION:
URL:https://www.jewishsouthjersey.org/calendar/katz-jcc-governance-committee-2/
LOCATION:Betty and Milton Katz JCC\, 1301 Springdale Road\, Cherry HIll\, NJ\, 08003\, US
CATEGORIES:Meetings
END:VEVENT
BEGIN:VEVENT
DTSTART;TZID=UTC:20260427T190000
DTEND;TZID=UTC:20260427T210000
DTSTAMP:20260420T101323
CREATED:20251223T165038Z
LAST-MODIFIED:20251223T165038Z
UID:10000252-1777316400-1777323600@www.jewishsouthjersey.org
SUMMARY:Katz JCC: Board of Directors Meeting
DESCRIPTION:Contact: Ashley Giat\nEmail: agiat@jfedsnj.org
URL:https://www.jewishsouthjersey.org/calendar/katz-jcc-board-of-directors-meeting-4/
LOCATION:Betty and Milton Katz JCC\, 1301 Springdale Road\, Cherry HIll\, NJ\, 08003\, US
CATEGORIES:Meetings
ORGANIZER;CN="Ashley Giat":MAILTO:agiat@jfedsnj.org
END:VEVENT
BEGIN:VEVENT
DTSTART;TZID=UTC:20260428T080000
DTEND;TZID=UTC:20260428T090000
DTSTAMP:20260420T101323
CREATED:20251223T165054Z
LAST-MODIFIED:20251223T165054Z
UID:10000253-1777363200-1777366800@www.jewishsouthjersey.org
SUMMARY:JFCS:  Finance Committee
DESCRIPTION:Contact: Melanie Stoopler\nEmail: mstoopler@jfedsnj.org\nPhone: 856-424-1333 x1540
URL:https://www.jewishsouthjersey.org/calendar/jfcs-finance-committee-3/
LOCATION:JFCS Conference Room
CATEGORIES:Meetings
ORGANIZER;CN="Melanie Stoopler":MAILTO:mstoopler@jfedsnj.org
END:VEVENT
BEGIN:VEVENT
DTSTART;TZID=UTC:20260428T180000
DTEND;TZID=UTC:20260428T210000
DTSTAMP:20260420T101323
CREATED:20251223T165054Z
LAST-MODIFIED:20251223T165054Z
UID:10000254-1777399200-1777410000@www.jewishsouthjersey.org
SUMMARY:Rutgers: Hillel Gala 2026
DESCRIPTION:
URL:https://www.jewishsouthjersey.org/calendar/rutgers-hillel-gala-2026/
CATEGORIES:Community Engagement
END:VEVENT
BEGIN:VEVENT
DTSTART;TZID=UTC:20260428T190000
DTEND;TZID=UTC:20260428T210000
DTSTAMP:20260420T101323
CREATED:20251223T165055Z
LAST-MODIFIED:20251223T165055Z
UID:10000255-1777402800-1777410000@www.jewishsouthjersey.org
SUMMARY:JCF:  Board of Trustees Meeting
DESCRIPTION:Contact: Mike Staff\nEmail: mstaff@jfedsnj.org\nPhone: 8566732528\nMore Info: http://jcfsnj.org
URL:https://www.jewishsouthjersey.org/calendar/jcf-board-of-trustees-meeting-2/
LOCATION:Jewish Federation of Southern New Jersey\, 1301 Springdale Road\, Suite 200\, Cherry HIll\, NJ\, 08003\, US
CATEGORIES:Meetings
ORGANIZER;CN="Mike Staff":MAILTO:mstaff@jfedsnj.org
END:VEVENT
BEGIN:VEVENT
DTSTART;TZID=UTC:20260429T190000
DTEND;TZID=UTC:20260429T210000
DTSTAMP:20260420T101323
CREATED:20251223T165055Z
LAST-MODIFIED:20251223T165055Z
UID:10000256-1777489200-1777496400@www.jewishsouthjersey.org
SUMMARY:JFSNJ:  Board of Directors Meeting
DESCRIPTION:Contact: Sarah Rowland\nEmail: srowland@jfedsnj.org
URL:https://www.jewishsouthjersey.org/calendar/jfsnj-board-of-directors-meeting-4/
LOCATION:Jewish Federation of Southern New Jersey\, 1301 Springdale Road\, Suite 200\, Cherry HIll\, NJ\, 08003\, US
CATEGORIES:Meetings
ORGANIZER;CN="Sarah Rowland":MAILTO:srowland@jfedsnj.org
END:VEVENT
BEGIN:VEVENT
DTSTART;TZID=UTC:20260430T100000
DTEND;TZID=UTC:20260430T100000
DTSTAMP:20260420T101323
CREATED:20251223T165055Z
LAST-MODIFIED:20251223T165055Z
UID:10000257-1777543200-1777543200@www.jewishsouthjersey.org
SUMMARY:Temple Beth Sholom:  Happy Song Music Class
DESCRIPTION:Weekly Interactive Music Sessions for Newborns – Age 3 (with a parent or caregiver) – with MUSIC PLAY PATROL Each session includes a special Shabbat celebration with TBS clergy and educators! Spring Session: April 16-May 26 (no class on May 21) \nMore Info: https://www.tbsonline.org/happy-song-music-class.html
URL:https://www.jewishsouthjersey.org/calendar/temple-beth-sholom-happy-song-music-class-10/
LOCATION:Temple Beth Sholom\, 1901 Kresson Rd\, Cherry Hill\, NJ\, 08003\, United States
CATEGORIES:Family & Youth
END:VEVENT
BEGIN:VEVENT
DTSTART;TZID=UTC:20260430T180000
DTEND;TZID=UTC:20260430T210000
DTSTAMP:20260420T101323
CREATED:20251223T165100Z
LAST-MODIFIED:20251223T165100Z
UID:10000258-1777572000-1777582800@www.jewishsouthjersey.org
SUMMARY:ADL: The Good Fight Gala
DESCRIPTION:Anti-Defamation League Philadelphia Annual Gala will be held in Downtown Philadelphia where an honoree who exemplifies ADL values receives the Americanism Award in recognition of their dedication to combatting antisemitism and all forms of hate. \nContact: Abigail Kent\nEmail: akent@adl.org\nPhone: 206-549-5832
URL:https://www.jewishsouthjersey.org/calendar/adl-the-good-fight-gala/
CATEGORIES:Community Engagement
ORGANIZER;CN="Abigail Kent":MAILTO:akent@adl.org
END:VEVENT
BEGIN:VEVENT
DTSTART;TZID=UTC:20260430T190000
DTEND;TZID=UTC:20260430T210000
DTSTAMP:20260420T101323
CREATED:20251223T165101Z
LAST-MODIFIED:20251223T165101Z
UID:10000259-1777575600-1777582800@www.jewishsouthjersey.org
SUMMARY:KBA:  Names\, Not Numbers Film Release
DESCRIPTION:Contact: Amanda Hollander
URL:https://www.jewishsouthjersey.org/calendar/kba-names-not-numbers-film-release/
LOCATION:Temple Beth Sholom\, 1901 Kresson Rd\, Cherry Hill\, NJ\, 08003\, United States
CATEGORIES:Community Engagement
END:VEVENT
BEGIN:VEVENT
DTSTART;TZID=UTC:20260501T190000
DTEND;TZID=UTC:20260501T203000
DTSTAMP:20260420T101323
CREATED:20251223T165101Z
LAST-MODIFIED:20251223T165101Z
UID:10000260-1777662000-1777667400@www.jewishsouthjersey.org
SUMMARY:Cong Kol Ami:  Shabbat Evening Services
DESCRIPTION:We encourage you to join our weekly services so we can draw strength from our traditions and from our connections to one another. We celebrate Anniversaries on the FIRST Friday of each month We celebrate Birthdays on the FOURTH Friday of each month. \n For those unable to join us in the Sanctuary\, please join us via livestream at www.kolaminj.org/livestream. \nContact: Amy Stanley\nEmail: amy@kolaminj.org\nPhone: 856-489-0029\nMore Info: https://www.kolaminj.org
URL:https://www.jewishsouthjersey.org/calendar/cong-kol-ami-shabbat-evening-services-19/
LOCATION:Congregation Kol Ami\, 1101 Springdale Road\, Cherry Hill\, NJ\, 08003\, United States
CATEGORIES:Community Engagement
ORGANIZER;CN="Amy Stanley":MAILTO:amy@kolaminj.org
END:VEVENT
BEGIN:VEVENT
DTSTART;TZID=UTC:20260501T193000
DTEND;TZID=UTC:20260501T203000
DTSTAMP:20260420T101323
CREATED:20251223T165102Z
LAST-MODIFIED:20251223T165102Z
UID:10000261-1777663800-1777667400@www.jewishsouthjersey.org
SUMMARY:Temple Har Zion:  Shabbat Services
DESCRIPTION:Join the THZ family for uplifting Shabbat services with Rabbi Nathan Weiner\, followed by our friendly and flavor-filled oneg. RSVP@templeharzion.org. \nContact: Rabbi Nathan Weiner\nEmail: info@templeharzion.org\nPhone: 609-267-0660\nMore Info: https://templeharzion.org/shabbat/
URL:https://www.jewishsouthjersey.org/calendar/temple-har-zion-shabbat-services-37/
LOCATION:Temple Har Zion\, 255 High St.\, Mt. Holly\, NJ\, 08060\, United States
CATEGORIES:Community Engagement
ORGANIZER;CN="Rabbi Nathan Weiner":MAILTO:info@templeharzion.org
END:VEVENT
BEGIN:VEVENT
DTSTART;TZID=UTC:20260502T100000
DTEND;TZID=UTC:20260502T120000
DTSTAMP:20260420T101323
CREATED:20251223T165102Z
LAST-MODIFIED:20251223T165102Z
UID:10000262-1777716000-1777723200@www.jewishsouthjersey.org
SUMMARY:Temple Har Zion:  Shabbat Services
DESCRIPTION:Contact: Rabbi Nathan Weiner\nEmail: info@templeharzion.org\nPhone: 609-267-0660\nMore Info: https://templeharzion.org/shabbat/
URL:https://www.jewishsouthjersey.org/calendar/temple-har-zion-shabbat-services-38/
LOCATION:Temple Har Zion\, 255 High St.\, Mt. Holly\, NJ\, 08060\, United States
CATEGORIES:Community Engagement
ORGANIZER;CN="Rabbi Nathan Weiner":MAILTO:info@templeharzion.org
END:VEVENT
BEGIN:VEVENT
DTSTART;TZID=UTC:20260502T190000
DTEND;TZID=UTC:20260502T191500
DTSTAMP:20260420T101323
CREATED:20251223T165147Z
LAST-MODIFIED:20251223T165147Z
UID:10000263-1777748400-1777749300@www.jewishsouthjersey.org
SUMMARY:Temple Har Zion:  Zoom Havdalah
DESCRIPTION:Join the THZ family for a brief but meaningful Havdalah service online. \nContact: Temple Har Zion\nEmail: info@templeharzion.org\nPhone: 609-267-0660\nMore Info: https://templeharzion.org/events1/
URL:https://www.jewishsouthjersey.org/calendar/temple-har-zion-zoom-havdalah-5/
LOCATION:Virtual
CATEGORIES:Community Engagement
ORGANIZER;CN="Temple Har Zion":MAILTO:info@templeharzion.org
END:VEVENT
BEGIN:VEVENT
DTSTART;TZID=UTC:20260503T100000
DTEND;TZID=UTC:20260503T110000
DTSTAMP:20260420T101323
CREATED:20260417T182702Z
LAST-MODIFIED:20260417T182702Z
UID:10000675-1777802400-1777806000@www.jewishsouthjersey.org
SUMMARY:PJ Bagel Rerun
DESCRIPTION:
URL:https://www.jewishsouthjersey.org/calendar/pj-bagel-rerun/
CATEGORIES:Events,Young Adult Division (YAD)
ATTACH;FMTTYPE=image/jpeg:https://www.jewishsouthjersey.org/wp-content/uploads/2026/04/Web.jpg
END:VEVENT
END:VCALENDAR