BEGIN:VCALENDAR
VERSION:2.0
PRODID:-//Jewish Federation of Southern New Jersey - ECPv6.15.20//NONSGML v1.0//EN
CALSCALE:GREGORIAN
METHOD:PUBLISH
X-ORIGINAL-URL:https://www.jewishsouthjersey.org
X-WR-CALDESC:Events for Jewish Federation of Southern New Jersey
REFRESH-INTERVAL;VALUE=DURATION:PT1H
X-Robots-Tag:noindex
X-PUBLISHED-TTL:PT1H
BEGIN:VTIMEZONE
TZID:UTC
BEGIN:STANDARD
TZOFFSETFROM:+0000
TZOFFSETTO:+0000
TZNAME:UTC
DTSTART:20240101T000000
END:STANDARD
END:VTIMEZONE
BEGIN:VEVENT
DTSTART;TZID=UTC:20251222T200000
DTEND;TZID=UTC:20251222T213000
DTSTAMP:20260423T035111
CREATED:20251223T142258Z
LAST-MODIFIED:20251223T142258Z
UID:10000053-1766433600-1766439000@www.jewishsouthjersey.org
SUMMARY:KBA: Board of Trustees Meeting
DESCRIPTION:
URL:https://www.jewishsouthjersey.org/calendar/kba-board-of-trustees-meeting/
LOCATION:Virtual
CATEGORIES:Meetings
END:VEVENT
BEGIN:VEVENT
DTSTART;TZID=UTC:20251223T110000
DTEND;TZID=UTC:20251223T120000
DTSTAMP:20260423T035111
CREATED:20251223T142258Z
LAST-MODIFIED:20251223T142258Z
UID:10000054-1766487600-1766491200@www.jewishsouthjersey.org
SUMMARY:Cong. Beth Tikvah:  Tea & Torah
DESCRIPTION:Join Rabbi Gottfried to discuss the parsha of the week either in person or on Zoom while having tea and a small nosh. Torah sections on screen for you to follow. \nContact: Rabbi Gottfried\nEmail: office@btikvah.org\nPhone: 856 983 8090\nMore Info: http://www.btikvah.org
URL:https://www.jewishsouthjersey.org/calendar/cong-beth-tikvah-tea-torah/
LOCATION:Congregation Beth Tikvah\, 115 Evesoro-Medford Road\, Marlton\, NJ\, 08053\, US
CATEGORIES:Older Adults
ORGANIZER;CN="Rabbi Gottfried":MAILTO:office@btikvah.org
END:VEVENT
BEGIN:VEVENT
DTSTART;TZID=UTC:20251226T190000
DTEND;TZID=UTC:20251226T203000
DTSTAMP:20260423T035111
CREATED:20251223T142259Z
LAST-MODIFIED:20251223T142259Z
UID:10000055-1766775600-1766781000@www.jewishsouthjersey.org
SUMMARY:Cong Kol Ami:  Shabbat Evening Services
DESCRIPTION:We encourage you to join our weekly services so we can draw strength from our traditions and from our connections to one another. We celebrate Anniversaries on the FIRST Friday of each month We celebrate Birthdays on the FOURTH Friday of each month. \n For those unable to join us in the Sanctuary\, please join us via livestream at www.kolaminj.org/livestream. \nContact: Amy Stanley\nEmail: amy@kolaminj.org\nPhone: 856-489-0029\nMore Info: https://www.kolaminj.org
URL:https://www.jewishsouthjersey.org/calendar/cong-kol-ami-shabbat-evening-services/
LOCATION:Congregation Kol Ami\, 1101 Springdale Road\, Cherry Hill\, NJ\, 08003\, United States
CATEGORIES:Community Engagement
ORGANIZER;CN="Amy Stanley":MAILTO:amy@kolaminj.org
END:VEVENT
BEGIN:VEVENT
DTSTART;TZID=UTC:20251226T193000
DTEND;TZID=UTC:20251226T210000
DTSTAMP:20260423T035111
CREATED:20251223T142259Z
LAST-MODIFIED:20251223T142259Z
UID:10000056-1766777400-1766782800@www.jewishsouthjersey.org
SUMMARY:Adath Emauel:  Shabbat Services
DESCRIPTION:Contact: Heidi Kramer\nEmail: hkramer@adathemanuel.com\nPhone: 8566081200\nMore Info: http://www.adathemanuel.com
URL:https://www.jewishsouthjersey.org/calendar/adath-emauel-shabbat-services/
LOCATION:Adath Emanu-El\, 205 Elbo Lane\, Mount Laurel\, NJ\, 08054
CATEGORIES:Community Engagement
ORGANIZER;CN="Heidi Kramer":MAILTO:hkramer@adathemanuel.com
END:VEVENT
BEGIN:VEVENT
DTSTART;TZID=UTC:20251226T200000
DTEND;TZID=UTC:20251226T210000
DTSTAMP:20260423T035111
CREATED:20251223T142259Z
LAST-MODIFIED:20251223T142259Z
UID:10000057-1766779200-1766782800@www.jewishsouthjersey.org
SUMMARY:Temple Har Zion:  Shabbat Services
DESCRIPTION:Join the THZ family for uplifting Shabbat services with Rabbi Nathan Weiner\, followed by our friendly and flavor-filled oneg. RSVP@templeharzion.org \nContact: Rabbi Nathan Weiner\nEmail: info@templeharzion.org\nPhone: 609-267-0660\nMore Info: https://templeharzion.org/shabbat/
URL:https://www.jewishsouthjersey.org/calendar/temple-har-zion-shabbat-services/
LOCATION:Temple Har Zion\, 255 High St.\, Mt. Holly\, NJ\, 08060\, United States
CATEGORIES:Community Engagement
ORGANIZER;CN="Rabbi Nathan Weiner":MAILTO:info@templeharzion.org
END:VEVENT
BEGIN:VEVENT
DTSTART;TZID=UTC:20251227T100000
DTEND;TZID=UTC:20251227T120000
DTSTAMP:20260423T035111
CREATED:20251223T142302Z
LAST-MODIFIED:20251223T142302Z
UID:10000058-1766829600-1766836800@www.jewishsouthjersey.org
SUMMARY:Temple Har Zion:  Shabbat Services
DESCRIPTION:Contact: Rabbi Nathan Weiner\nEmail: info@templeharzion.org\nPhone: 609-267-0660\nMore Info: https://templeharzion.org/shabbat/
URL:https://www.jewishsouthjersey.org/calendar/temple-har-zion-shabbat-services-2/
LOCATION:Temple Har Zion\, 255 High St.\, Mt. Holly\, NJ\, 08060\, United States
CATEGORIES:Community Engagement
ORGANIZER;CN="Rabbi Nathan Weiner":MAILTO:info@templeharzion.org
END:VEVENT
END:VCALENDAR