BEGIN:VCALENDAR
VERSION:2.0
PRODID:-//Jewish Federation of Southern New Jersey - ECPv6.15.20//NONSGML v1.0//EN
CALSCALE:GREGORIAN
METHOD:PUBLISH
X-WR-CALNAME:Jewish Federation of Southern New Jersey
X-ORIGINAL-URL:https://www.jewishsouthjersey.org
X-WR-CALDESC:Events for Jewish Federation of Southern New Jersey
REFRESH-INTERVAL;VALUE=DURATION:PT1H
X-Robots-Tag:noindex
X-PUBLISHED-TTL:PT1H
BEGIN:VTIMEZONE
TZID:UTC
BEGIN:STANDARD
TZOFFSETFROM:+0000
TZOFFSETTO:+0000
TZNAME:UTC
DTSTART:20250101T000000
END:STANDARD
END:VTIMEZONE
BEGIN:VEVENT
DTSTART;VALUE=DATE:20260316
DTEND;VALUE=DATE:20260327
DTSTAMP:20260420T142836
CREATED:20251223T164738Z
LAST-MODIFIED:20251223T164738Z
UID:10000190-1773619200-1774569599@www.jewishsouthjersey.org
SUMMARY:Katz JCC:  Jewish Film Festival
DESCRIPTION:The Katz JCC Jewish Film Festival provides a captivating lineup of films that explore the rich and diverse tapestry of the Jewish experience. For over a quarter of a century this beloved festival has brought the community together to enjoy compelling narratives\, thought-provoking documentaries\, and world-class cinema from around the globe.   \n  \nContact: Aviva Malka Brissitte\nEmail: abrissitte@jfedsnj.org
URL:https://www.jewishsouthjersey.org/calendar/katz-jcc-jewish-film-festival/
LOCATION:Betty and Milton Katz JCC\, 1301 Springdale Road\, Cherry HIll\, NJ\, 08003\, US
CATEGORIES:Community Engagement
ORGANIZER;CN="Aviva Malka Brissitte":MAILTO:abrissitte@jfedsnj.org
END:VEVENT
BEGIN:VEVENT
DTSTART;VALUE=DATE:20260322
DTEND;VALUE=DATE:20260323
DTSTAMP:20260420T142836
CREATED:20251223T164815Z
LAST-MODIFIED:20251223T164815Z
UID:10000206-1774137600-1774223999@www.jewishsouthjersey.org
SUMMARY:Temple Beth Sholom:  Scholar in Residence Weekend with Rabbi Matt Berkowitz
DESCRIPTION:More Info: https://www.tbsonline.org/
URL:https://www.jewishsouthjersey.org/calendar/temple-beth-sholom-scholar-in-residence-weekend-with-rabbi-matt-berkowitz-4/
LOCATION:Temple Beth Sholom\, 1901 Kresson Rd\, Cherry Hill\, NJ\, 08003\, United States
CATEGORIES:Community Engagement
END:VEVENT
BEGIN:VEVENT
DTSTART;TZID=UTC:20260323T190000
DTEND;TZID=UTC:20260323T210000
DTSTAMP:20260420T142836
CREATED:20251223T164815Z
LAST-MODIFIED:20251223T164815Z
UID:10000207-1774292400-1774299600@www.jewishsouthjersey.org
SUMMARY:JFED:  Planning and Visioning Committee
DESCRIPTION:Contact: Ronit Boyd\nEmail: rboyd@jfedsnj.org
URL:https://www.jewishsouthjersey.org/calendar/jfed-planning-and-visioning-committee-3/
LOCATION:Jewish Federation of Southern New Jersey\, 1301 Springdale Road\, Suite 200\, Cherry HIll\, NJ\, 08003\, US
CATEGORIES:Meetings
ORGANIZER;CN="Ronit Boyd":MAILTO:rboyd@jfedsnj.org
END:VEVENT
BEGIN:VEVENT
DTSTART;TZID=UTC:20260323T193000
DTEND;TZID=UTC:20260323T210000
DTSTAMP:20260420T142836
CREATED:20251223T164831Z
LAST-MODIFIED:20251223T164831Z
UID:10000208-1774294200-1774299600@www.jewishsouthjersey.org
SUMMARY:KBA: Board of Trustees Meeting
DESCRIPTION:
URL:https://www.jewishsouthjersey.org/calendar/kba-board-of-trustees-meeting-4/
LOCATION:Virtual
CATEGORIES:Meetings
END:VEVENT
BEGIN:VEVENT
DTSTART;TZID=UTC:20260324T080000
DTEND;TZID=UTC:20260324T090000
DTSTAMP:20260420T142836
CREATED:20251223T164832Z
LAST-MODIFIED:20251223T164832Z
UID:10000209-1774339200-1774342800@www.jewishsouthjersey.org
SUMMARY:JFCS:  Finance Committee
DESCRIPTION:Contact: Melanie Stoopler\nEmail: mstoopler@jfedsnj.org\nPhone: 856-424-1333 x1540
URL:https://www.jewishsouthjersey.org/calendar/jfcs-finance-committee-2/
LOCATION:JFCS Conference Room
CATEGORIES:Meetings
ORGANIZER;CN="Melanie Stoopler":MAILTO:mstoopler@jfedsnj.org
END:VEVENT
BEGIN:VEVENT
DTSTART;TZID=UTC:20260325T190000
DTEND;TZID=UTC:20260325T210000
DTSTAMP:20260420T142836
CREATED:20251223T164832Z
LAST-MODIFIED:20251223T164832Z
UID:10000210-1774465200-1774472400@www.jewishsouthjersey.org
SUMMARY:JFSNJ:  Board of Directors Meeting
DESCRIPTION:Contact: Sarah Rowland\nEmail: srowland@jfedsnj.org
URL:https://www.jewishsouthjersey.org/calendar/jfsnj-board-of-directors-meeting-3/
LOCATION:Jewish Federation of Southern New Jersey\, 1301 Springdale Road\, Suite 200\, Cherry HIll\, NJ\, 08003\, US
CATEGORIES:Meetings
ORGANIZER;CN="Sarah Rowland":MAILTO:srowland@jfedsnj.org
END:VEVENT
BEGIN:VEVENT
DTSTART;TZID=UTC:20260326T183000
DTEND;TZID=UTC:20260326T213000
DTSTAMP:20260420T142836
CREATED:20251223T164833Z
LAST-MODIFIED:20251223T164833Z
UID:10000211-1774549800-1774560600@www.jewishsouthjersey.org
SUMMARY:JFCS: Stepping Out
DESCRIPTION:Stepping Out with JFCS \nContact: Jill Hammel\nEmail: jhammel@jfedsnj.org\nPhone: (856) 424-1333\nMore Info: https://jfcssnj.org/
URL:https://www.jewishsouthjersey.org/calendar/jfcs-stepping-out/
LOCATION:Congregation Beth El\, 8000 Main St\, Voorhees\, NJ\, 08043\, United States
CATEGORIES:Community Engagement
ORGANIZER;CN="Jill Hammel":MAILTO:jhammel@jfedsnj.org
END:VEVENT
BEGIN:VEVENT
DTSTART;TZID=UTC:20260327T190000
DTEND;TZID=UTC:20260327T203000
DTSTAMP:20260420T142836
CREATED:20251223T164833Z
LAST-MODIFIED:20251223T164833Z
UID:10000212-1774638000-1774643400@www.jewishsouthjersey.org
SUMMARY:Cong Kol Ami:  Shabbat Evening Services
DESCRIPTION:We encourage you to join our weekly services so we can draw strength from our traditions and from our connections to one another. We celebrate Anniversaries on the FIRST Friday of each month We celebrate Birthdays on the FOURTH Friday of each month. \n For those unable to join us in the Sanctuary\, please join us via livestream at www.kolaminj.org/livestream. \nContact: Amy Stanley\nEmail: amy@kolaminj.org\nPhone: 856-489-0029\nMore Info: https://www.kolaminj.org
URL:https://www.jewishsouthjersey.org/calendar/cong-kol-ami-shabbat-evening-services-14/
LOCATION:Congregation Kol Ami\, 1101 Springdale Road\, Cherry Hill\, NJ\, 08003\, United States
CATEGORIES:Community Engagement
ORGANIZER;CN="Amy Stanley":MAILTO:amy@kolaminj.org
END:VEVENT
BEGIN:VEVENT
DTSTART;TZID=UTC:20260327T193000
DTEND;TZID=UTC:20260327T203000
DTSTAMP:20260420T142836
CREATED:20251223T164905Z
LAST-MODIFIED:20251223T164905Z
UID:10000213-1774639800-1774643400@www.jewishsouthjersey.org
SUMMARY:Temple Har Zion:  Shabbat Services
DESCRIPTION:Join the THZ family for uplifting Shabbat services with Rabbi Nathan Weiner\, followed by our friendly and flavor-filled oneg. RSVP@templeharzion.org. \nContact: Rabbi Nathan Weiner\nEmail: info@templeharzion.org\nPhone: 609-267-0660\nMore Info: https://templeharzion.org/shabbat/
URL:https://www.jewishsouthjersey.org/calendar/temple-har-zion-shabbat-services-27/
LOCATION:Temple Har Zion\, 255 High St.\, Mt. Holly\, NJ\, 08060\, United States
CATEGORIES:Community Engagement
ORGANIZER;CN="Rabbi Nathan Weiner":MAILTO:info@templeharzion.org
END:VEVENT
BEGIN:VEVENT
DTSTART;TZID=UTC:20260328T100000
DTEND;TZID=UTC:20260328T120000
DTSTAMP:20260420T142836
CREATED:20251223T164906Z
LAST-MODIFIED:20251223T164906Z
UID:10000214-1774692000-1774699200@www.jewishsouthjersey.org
SUMMARY:Temple Har Zion:  Shabbat Services
DESCRIPTION:Contact: Rabbi Nathan Weiner\nEmail: info@templeharzion.org\nPhone: 609-267-0660\nMore Info: https://templeharzion.org/shabbat/
URL:https://www.jewishsouthjersey.org/calendar/temple-har-zion-shabbat-services-28/
LOCATION:Temple Har Zion\, 255 High St.\, Mt. Holly\, NJ\, 08060\, United States
CATEGORIES:Community Engagement
ORGANIZER;CN="Rabbi Nathan Weiner":MAILTO:info@templeharzion.org
END:VEVENT
END:VCALENDAR