BEGIN:VCALENDAR
VERSION:2.0
PRODID:-//Jewish Federation of Southern New Jersey - ECPv6.15.20//NONSGML v1.0//EN
CALSCALE:GREGORIAN
METHOD:PUBLISH
X-ORIGINAL-URL:https://www.jewishsouthjersey.org
X-WR-CALDESC:Events for Jewish Federation of Southern New Jersey
REFRESH-INTERVAL;VALUE=DURATION:PT1H
X-Robots-Tag:noindex
X-PUBLISHED-TTL:PT1H
BEGIN:VTIMEZONE
TZID:UTC
BEGIN:STANDARD
TZOFFSETFROM:+0000
TZOFFSETTO:+0000
TZNAME:UTC
DTSTART:20250101T000000
END:STANDARD
END:VTIMEZONE
BEGIN:VEVENT
DTSTART;TZID=UTC:20260412T083000
DTEND;TZID=UTC:20260412T113000
DTSTAMP:20260422T103801
CREATED:20251223T164941Z
LAST-MODIFIED:20251223T164941Z
UID:10000224-1775982600-1775993400@www.jewishsouthjersey.org
SUMMARY:Katz JCC: Matzah Miles Trail Run
DESCRIPTION:5k Trail Run/ 1 Mile Family walk and kids events to celebrate Passover in a health active and joyous way. Family’s can spend time together and engage in fun activities for all ages. 5k trail run through the beautiful Medford camps. \nContact: Kierstin Kratchwell\nEmail: KKratchwell@jfedsnj.org\nMore Info: https://runsignup.com/Race/NJ/Medford/MatzahMiles5kTrailRun1MileFamilyWalk
URL:https://www.jewishsouthjersey.org/calendar/katz-jcc-matzah-miles-trail-run/
CATEGORIES:Community Engagement
ORGANIZER;CN="Kierstin Kratchwell":MAILTO:KKratchwell@jfedsnj.org
END:VEVENT
BEGIN:VEVENT
DTSTART;TZID=UTC:20260413T190000
DTEND;TZID=UTC:20260413T210000
DTSTAMP:20260422T103801
CREATED:20251223T164942Z
LAST-MODIFIED:20251223T164942Z
UID:10000225-1776106800-1776114000@www.jewishsouthjersey.org
SUMMARY:Yom HaShoah Community Commemoration
DESCRIPTION:Contact: Helen Kirschbaum\nEmail: hkirschbaum@jfedsnj.org
URL:https://www.jewishsouthjersey.org/calendar/yom-hashoah-community-commemoration/
CATEGORIES:Community Engagement
ORGANIZER;CN="Helen Kirschbaum":MAILTO:hkirschbaum@jfedsnj.org
END:VEVENT
BEGIN:VEVENT
DTSTART;TZID=UTC:20260414T193000
DTEND;TZID=UTC:20260414T210000
DTSTAMP:20260422T103801
CREATED:20251223T164942Z
LAST-MODIFIED:20251223T164942Z
UID:10000226-1776195000-1776200400@www.jewishsouthjersey.org
SUMMARY:JCRC: Board Meeting
DESCRIPTION:Contact: Mike Iannuzzi\nEmail: miannuzzi@jfedsnj.org
URL:https://www.jewishsouthjersey.org/calendar/jcrc-board-meeting-4/
LOCATION:Jewish Federation of Southern New Jersey\, 1301 Springdale Road\, Suite 200\, Cherry HIll\, NJ\, 08003\, US
CATEGORIES:Meetings
ORGANIZER;CN="Mike Iannuzzi":MAILTO:miannuzzi@jfedsnj.org
END:VEVENT
BEGIN:VEVENT
DTSTART;TZID=UTC:20260415T190000
DTEND;TZID=UTC:20260415T210000
DTSTAMP:20260422T103801
CREATED:20251223T164943Z
LAST-MODIFIED:20251223T164943Z
UID:10000227-1776279600-1776286800@www.jewishsouthjersey.org
SUMMARY:JFED:  FLI Session
DESCRIPTION:
URL:https://www.jewishsouthjersey.org/calendar/jfed-fli-session-5/
LOCATION:Jewish Federation of Southern New Jersey\, 1301 Springdale Road\, Suite 200\, Cherry HIll\, NJ\, 08003\, US
CATEGORIES:Community Engagement
END:VEVENT
BEGIN:VEVENT
DTSTART;TZID=UTC:20260416T100000
DTEND;TZID=UTC:20260416T100000
DTSTAMP:20260422T103801
CREATED:20251223T164949Z
LAST-MODIFIED:20251223T164949Z
UID:10000228-1776333600-1776333600@www.jewishsouthjersey.org
SUMMARY:Temple Beth Sholom:  Happy Song Music Class
DESCRIPTION:Weekly Interactive Music Sessions for Newborns – Age 3 (with a parent or caregiver) – with MUSIC PLAY PATROL Each session includes a special Shabbat celebration with TBS clergy and educators! Spring Session: April 16-May 26 (no class on May 21) \nMore Info: https://www.tbsonline.org/happy-song-music-class.html
URL:https://www.jewishsouthjersey.org/calendar/temple-beth-sholom-happy-song-music-class-8/
LOCATION:Temple Beth Sholom\, 1901 Kresson Rd\, Cherry Hill\, NJ\, 08003\, United States
CATEGORIES:Family & Youth
END:VEVENT
BEGIN:VEVENT
DTSTART;TZID=UTC:20260416T193000
DTEND;TZID=UTC:20260416T203000
DTSTAMP:20260422T103801
CREATED:20251223T164950Z
LAST-MODIFIED:20251223T164950Z
UID:10000230-1776367800-1776371400@www.jewishsouthjersey.org
SUMMARY:Temple Har Zion:  Sisterhood Online Book Club
DESCRIPTION:Join us for lively\, thought-provoking discussion of a different book each month. \nContact: THZ Sisterhood\nEmail: sisterhood@templeharzion.org\nPhone: 609-267-0660\nMore Info: https://templeharzion.org/home/our-community/sisterhood/
URL:https://www.jewishsouthjersey.org/calendar/temple-har-zion-sisterhood-online-book-club-3/
LOCATION:Virtual
CATEGORIES:Community Engagement
ORGANIZER;CN="THZ Sisterhood":MAILTO:sisterhood@templeharzion.org
END:VEVENT
BEGIN:VEVENT
DTSTART;TZID=UTC:20260417T180000
DTEND;TZID=UTC:20260417T184500
DTSTAMP:20260422T103801
CREATED:20251223T164950Z
LAST-MODIFIED:20251223T164950Z
UID:10000231-1776448800-1776451500@www.jewishsouthjersey.org
SUMMARY:Cong. Kol Ami: Tot Shabbat
DESCRIPTION:Kol Ami’s Tot Shabbat service is open to the community. Children ages 0 – 5\, accompanied by a parent or guardian\, are welcome! \nContact: Amy Stanley\nEmail: amy@kolaminj.org\nPhone: 856-489-0029\nMore Info: https://www.kolaminj.org
URL:https://www.jewishsouthjersey.org/calendar/cong-kol-ami-tot-shabbat-3/
LOCATION:Congregation Kol Ami\, 1101 Springdale Road\, Cherry Hill\, NJ\, 08003\, United States
CATEGORIES:Community Engagement
ORGANIZER;CN="Amy Stanley":MAILTO:amy@kolaminj.org
END:VEVENT
BEGIN:VEVENT
DTSTART;TZID=UTC:20260417T190000
DTEND;TZID=UTC:20260417T203000
DTSTAMP:20260422T103801
CREATED:20251223T164951Z
LAST-MODIFIED:20251223T164951Z
UID:10000232-1776452400-1776457800@www.jewishsouthjersey.org
SUMMARY:Cong Kol Ami:  Shabbat Evening Services
DESCRIPTION:We encourage you to join our weekly services so we can draw strength from our traditions and from our connections to one another. We celebrate Anniversaries on the FIRST Friday of each month We celebrate Birthdays on the FOURTH Friday of each month. \n For those unable to join us in the Sanctuary\, please join us via livestream at www.kolaminj.org/livestream. \nContact: Amy Stanley\nEmail: amy@kolaminj.org\nPhone: 856-489-0029\nMore Info: https://www.kolaminj.org
URL:https://www.jewishsouthjersey.org/calendar/cong-kol-ami-shabbat-evening-services-17/
LOCATION:Congregation Kol Ami\, 1101 Springdale Road\, Cherry Hill\, NJ\, 08003\, United States
CATEGORIES:Community Engagement
ORGANIZER;CN="Amy Stanley":MAILTO:amy@kolaminj.org
END:VEVENT
BEGIN:VEVENT
DTSTART;TZID=UTC:20260417T193000
DTEND;TZID=UTC:20260417T203000
DTSTAMP:20260422T103801
CREATED:20251223T164956Z
LAST-MODIFIED:20251223T164956Z
UID:10000233-1776454200-1776457800@www.jewishsouthjersey.org
SUMMARY:Temple Har Zion:  Shabbat Services
DESCRIPTION:Join the THZ family for uplifting Shabbat services with Rabbi Nathan Weiner\, followed by our friendly and flavor-filled oneg. RSVP@templeharzion.org. \nContact: Rabbi Nathan Weiner\nEmail: info@templeharzion.org\nPhone: 609-267-0660\nMore Info: https://templeharzion.org/shabbat/
URL:https://www.jewishsouthjersey.org/calendar/temple-har-zion-shabbat-services-33/
LOCATION:Temple Har Zion\, 255 High St.\, Mt. Holly\, NJ\, 08060\, United States
CATEGORIES:Community Engagement
ORGANIZER;CN="Rabbi Nathan Weiner":MAILTO:info@templeharzion.org
END:VEVENT
BEGIN:VEVENT
DTSTART;TZID=UTC:20260418T100000
DTEND;TZID=UTC:20260418T120000
DTSTAMP:20260422T103801
CREATED:20251223T164956Z
LAST-MODIFIED:20251223T164956Z
UID:10000234-1776506400-1776513600@www.jewishsouthjersey.org
SUMMARY:Temple Har Zion:  Shabbat Services
DESCRIPTION:Contact: Rabbi Nathan Weiner\nEmail: info@templeharzion.org\nPhone: 609-267-0660\nMore Info: https://templeharzion.org/shabbat/
URL:https://www.jewishsouthjersey.org/calendar/temple-har-zion-shabbat-services-34/
LOCATION:Temple Har Zion\, 255 High St.\, Mt. Holly\, NJ\, 08060\, United States
CATEGORIES:Community Engagement
ORGANIZER;CN="Rabbi Nathan Weiner":MAILTO:info@templeharzion.org
END:VEVENT
END:VCALENDAR