BEGIN:VCALENDAR
VERSION:2.0
PRODID:-//Jewish Federation of Southern New Jersey - ECPv6.15.20//NONSGML v1.0//EN
CALSCALE:GREGORIAN
METHOD:PUBLISH
X-WR-CALNAME:Jewish Federation of Southern New Jersey
X-ORIGINAL-URL:https://www.jewishsouthjersey.org
X-WR-CALDESC:Events for Jewish Federation of Southern New Jersey
REFRESH-INTERVAL;VALUE=DURATION:PT1H
X-Robots-Tag:noindex
X-PUBLISHED-TTL:PT1H
BEGIN:VTIMEZONE
TZID:UTC
BEGIN:STANDARD
TZOFFSETFROM:+0000
TZOFFSETTO:+0000
TZNAME:UTC
DTSTART:20250101T000000
END:STANDARD
END:VTIMEZONE
BEGIN:VEVENT
DTSTART;TZID=UTC:20261116T190000
DTEND;TZID=UTC:20261116T210000
DTSTAMP:20260425T112500
CREATED:20251223T170112Z
LAST-MODIFIED:20251223T170112Z
UID:10000435-1794855600-1794862800@www.jewishsouthjersey.org
SUMMARY:Katz JCC: Board of Directors Meeting
DESCRIPTION:Contact: Ashley Giat\nEmail: agiat@jfedsnj.org
URL:https://www.jewishsouthjersey.org/calendar/katz-jcc-board-of-directors-meeting-10/
LOCATION:Betty and Milton Katz JCC\, 1301 Springdale Road\, Cherry HIll\, NJ\, 08003\, US
CATEGORIES:Meetings
ORGANIZER;CN="Ashley Giat":MAILTO:agiat@jfedsnj.org
END:VEVENT
BEGIN:VEVENT
DTSTART;TZID=UTC:20261118T190000
DTEND;TZID=UTC:20261118T203000
DTSTAMP:20260425T112500
CREATED:20251223T170113Z
LAST-MODIFIED:20251223T170113Z
UID:10000436-1795028400-1795033800@www.jewishsouthjersey.org
SUMMARY:JFSNJ:  Board of Directors Meeting
DESCRIPTION:Contact: Sarah Rowland\nEmail: srowland@jfedsnj.org
URL:https://www.jewishsouthjersey.org/calendar/jfsnj-board-of-directors-meeting-10/
LOCATION:Jewish Federation of Southern New Jersey\, 1301 Springdale Road\, Suite 200\, Cherry HIll\, NJ\, 08003\, US
CATEGORIES:Meetings
ORGANIZER;CN="Sarah Rowland":MAILTO:srowland@jfedsnj.org
END:VEVENT
BEGIN:VEVENT
DTSTART;TZID=UTC:20261119T193000
DTEND;TZID=UTC:20261119T203000
DTSTAMP:20260425T112500
CREATED:20251223T170114Z
LAST-MODIFIED:20251223T170114Z
UID:10000437-1795116600-1795120200@www.jewishsouthjersey.org
SUMMARY:Temple Har Zion:  Sisterhood Online Book Club
DESCRIPTION:Join us for lively\, thought-provoking discussion of a different book each month. \nContact: THZ Sisterhood\nEmail: sisterhood@templeharzion.org\nPhone: 609-267-0660\nMore Info: https://templeharzion.org/home/our-community/sisterhood/
URL:https://www.jewishsouthjersey.org/calendar/temple-har-zion-sisterhood-online-book-club-10/
LOCATION:Virtual
CATEGORIES:Community Engagement
ORGANIZER;CN="THZ Sisterhood":MAILTO:sisterhood@templeharzion.org
END:VEVENT
BEGIN:VEVENT
DTSTART;TZID=UTC:20261120T193000
DTEND;TZID=UTC:20261120T203000
DTSTAMP:20260425T112500
CREATED:20251223T170119Z
LAST-MODIFIED:20251223T170119Z
UID:10000438-1795203000-1795206600@www.jewishsouthjersey.org
SUMMARY:Temple Har Zion:  Shabbat Services
DESCRIPTION:Join the THZ family for uplifting Shabbat services with Rabbi Nathan Weiner\, followed by our friendly and flavor-filled oneg. RSVP@templeharzion.org. \nContact: Rabbi Nathan Weiner\nEmail: info@templeharzion.org\nPhone: 609-267-0660\nMore Info: https://templeharzion.org/shabbat/
URL:https://www.jewishsouthjersey.org/calendar/temple-har-zion-shabbat-services-95/
LOCATION:Temple Har Zion\, 255 High St.\, Mt. Holly\, NJ\, 08060\, United States
CATEGORIES:Community Engagement
ORGANIZER;CN="Rabbi Nathan Weiner":MAILTO:info@templeharzion.org
END:VEVENT
BEGIN:VEVENT
DTSTART;TZID=UTC:20261121T100000
DTEND;TZID=UTC:20261121T120000
DTSTAMP:20260425T112500
CREATED:20251223T170119Z
LAST-MODIFIED:20251223T170119Z
UID:10000439-1795255200-1795262400@www.jewishsouthjersey.org
SUMMARY:Temple Har Zion:  Shabbat Services
DESCRIPTION:Contact: Rabbi Nathan Weiner\nEmail: info@templeharzion.org\nPhone: 609-267-0660\nMore Info: https://templeharzion.org/shabbat/
URL:https://www.jewishsouthjersey.org/calendar/temple-har-zion-shabbat-services-96/
LOCATION:Temple Har Zion\, 255 High St.\, Mt. Holly\, NJ\, 08060\, United States
CATEGORIES:Community Engagement
ORGANIZER;CN="Rabbi Nathan Weiner":MAILTO:info@templeharzion.org
END:VEVENT
END:VCALENDAR