BEGIN:VCALENDAR
VERSION:2.0
PRODID:-//Jewish Federation of Southern New Jersey - ECPv6.15.20//NONSGML v1.0//EN
CALSCALE:GREGORIAN
METHOD:PUBLISH
X-ORIGINAL-URL:https://www.jewishsouthjersey.org
X-WR-CALDESC:Events for Jewish Federation of Southern New Jersey
REFRESH-INTERVAL;VALUE=DURATION:PT1H
X-Robots-Tag:noindex
X-PUBLISHED-TTL:PT1H
BEGIN:VTIMEZONE
TZID:UTC
BEGIN:STANDARD
TZOFFSETFROM:+0000
TZOFFSETTO:+0000
TZNAME:UTC
DTSTART:20250101T000000
END:STANDARD
END:VTIMEZONE
BEGIN:VEVENT
DTSTART;TZID=UTC:20261124T184500
DTEND;TZID=UTC:20261124T203000
DTSTAMP:20260425T020357
CREATED:20251223T170119Z
LAST-MODIFIED:20251223T170119Z
UID:10000440-1795545900-1795552200@www.jewishsouthjersey.org
SUMMARY:JCF: Grants Committee Meeting
DESCRIPTION:Contact: Mike Staff\nEmail: mstaff@jfedsnj.org\nPhone: 856-673-2528
URL:https://www.jewishsouthjersey.org/calendar/jcf-grants-committee-meeting/
LOCATION:JFED Board Room
CATEGORIES:Meetings
ORGANIZER;CN="Mike Staff":MAILTO:mstaff@jfedsnj.org
END:VEVENT
BEGIN:VEVENT
DTSTART;TZID=UTC:20261127T193000
DTEND;TZID=UTC:20261127T203000
DTSTAMP:20260425T020357
CREATED:20251223T170120Z
LAST-MODIFIED:20251223T170120Z
UID:10000441-1795807800-1795811400@www.jewishsouthjersey.org
SUMMARY:Temple Har Zion:  Shabbat Services
DESCRIPTION:Join the THZ family for uplifting Shabbat services with Rabbi Nathan Weiner\, followed by our friendly and flavor-filled oneg. RSVP@templeharzion.org. \nContact: Rabbi Nathan Weiner\nEmail: info@templeharzion.org\nPhone: 609-267-0660\nMore Info: https://templeharzion.org/shabbat/
URL:https://www.jewishsouthjersey.org/calendar/temple-har-zion-shabbat-services-97/
LOCATION:Temple Har Zion\, 255 High St.\, Mt. Holly\, NJ\, 08060\, United States
CATEGORIES:Community Engagement
ORGANIZER;CN="Rabbi Nathan Weiner":MAILTO:info@templeharzion.org
END:VEVENT
BEGIN:VEVENT
DTSTART;TZID=UTC:20261128T100000
DTEND;TZID=UTC:20261128T120000
DTSTAMP:20260425T020357
CREATED:20251223T170120Z
LAST-MODIFIED:20251223T170120Z
UID:10000442-1795860000-1795867200@www.jewishsouthjersey.org
SUMMARY:Temple Har Zion:  Shabbat Services
DESCRIPTION:Contact: Rabbi Nathan Weiner\nEmail: info@templeharzion.org\nPhone: 609-267-0660\nMore Info: https://templeharzion.org/shabbat/
URL:https://www.jewishsouthjersey.org/calendar/temple-har-zion-shabbat-services-98/
LOCATION:Temple Har Zion\, 255 High St.\, Mt. Holly\, NJ\, 08060\, United States
CATEGORIES:Community Engagement
ORGANIZER;CN="Rabbi Nathan Weiner":MAILTO:info@templeharzion.org
END:VEVENT
END:VCALENDAR